BEGIN:VCALENDAR
VERSION:2.0
PRODID:-//Bay Weekly - ECPv6.15.17.1//NONSGML v1.0//EN
CALSCALE:GREGORIAN
METHOD:PUBLISH
X-WR-CALNAME:Bay Weekly
X-ORIGINAL-URL:https://bayweekly.com
X-WR-CALDESC:Events for Bay Weekly
REFRESH-INTERVAL;VALUE=DURATION:PT1H
X-Robots-Tag:noindex
X-PUBLISHED-TTL:PT1H
BEGIN:VTIMEZONE
TZID:America/New_York
BEGIN:DAYLIGHT
TZOFFSETFROM:-0500
TZOFFSETTO:-0400
TZNAME:EDT
DTSTART:20190310T070000
END:DAYLIGHT
BEGIN:STANDARD
TZOFFSETFROM:-0400
TZOFFSETTO:-0500
TZNAME:EST
DTSTART:20191103T060000
END:STANDARD
BEGIN:DAYLIGHT
TZOFFSETFROM:-0500
TZOFFSETTO:-0400
TZNAME:EDT
DTSTART:20200308T070000
END:DAYLIGHT
BEGIN:STANDARD
TZOFFSETFROM:-0400
TZOFFSETTO:-0500
TZNAME:EST
DTSTART:20201101T060000
END:STANDARD
BEGIN:DAYLIGHT
TZOFFSETFROM:-0500
TZOFFSETTO:-0400
TZNAME:EDT
DTSTART:20210314T070000
END:DAYLIGHT
BEGIN:STANDARD
TZOFFSETFROM:-0400
TZOFFSETTO:-0500
TZNAME:EST
DTSTART:20211107T060000
END:STANDARD
END:VTIMEZONE
BEGIN:VEVENT
DTSTART;TZID=America/New_York:20200919T100000
DTEND;TZID=America/New_York:20201213T110000
DTSTAMP:20260420T132319
CREATED:20200903T233447Z
LAST-MODIFIED:20200924T182635Z
UID:22047-1600509600-1607857200@bayweekly.com
SUMMARY:Virtual Crickets: Music & Play Class for 4 to 6 Year Olds Now Enrolling!
DESCRIPTION:Crickets is a fun\, play-based music and movement class for boys and girls ages 4 to 6. Trained teachers engage the body and the mind in joyful music-making through musical games and movement. Offered by Children’s Chorus of Maryland (CCM)\, Crickets gently encourages young children to explore the voice as their first true instrument. Offered entirely online this fall – two 6-week sessions starting September 19th and November 7th. Small classes limited to 8 children\, with multiple start times! Learn more at www.ccmsings.org
URL:https://bayweekly.com/event/virtual-crickets-music-play-class-for-4-to-6-year-olds-now-enrolling/
LOCATION:Children’s Chorus of Maryland &amp; School of Music\, 320 East Towsontown Blvd.\, Terrace Level\, Towson\, MD\, 21286\, United States
ATTACH;FMTTYPE=image/jpeg:https://bayweekly.com/wp-content/uploads/2020/09/CCM_050119_0185-1024x683-1.jpg
ORGANIZER;CN="Children's Chorus of Maryland &amp%3Bamp%3B School of Music":MAILTO:ebarach@ccmsings.org
END:VEVENT
BEGIN:VEVENT
DTSTART;TZID=America/New_York:20201001T160000
DTEND;TZID=America/New_York:20201124T210000
DTSTAMP:20260420T132319
CREATED:20200926T171227Z
LAST-MODIFIED:20200926T174204Z
UID:23871-1601568000-1606251600@bayweekly.com
SUMMARY:Ballet\, Tap and Tumbling Classes
DESCRIPTION:The Creative and Performing Arts of South County presents a new Ballet\, Tap and Tumbling class. Tuesdays and Thursdays\, Ages 2 and up. Starting October 1\, 2020 Course is 8 weeks: October 1 through November 24\, 2020 Classes begin at 4:00 pm.\nFor a complete schedule of classes and to register go to: http://artsofsoco.org/programsandclasses.html\nLocated at The Creative and Performing Arts of South County at 3259 Solomons Island Road in Edgewater\, MD. In the South River Colony Shopping Center between Weis and West Marine at the Intersection of Route 2 and Route 214.\nPhone: 240-232-2841 Email:contact@artsofsoco.org
URL:https://bayweekly.com/event/ballet-tap-and-tumbling-classes/
LOCATION:The Creative and Performing Arts of South County\, 3259 Solomons Island Road\, Edgewater\, MD\, 21037
ATTACH;FMTTYPE=image/png:https://bayweekly.com/wp-content/uploads/2020/09/Tap-Tumbling-2020.png
ORGANIZER;CN="The Creative and Performing Arts of South County":MAILTO:info@artsofsoco,org
END:VEVENT
BEGIN:VEVENT
DTSTART;VALUE=DATE:20201004
DTEND;VALUE=DATE:20201215
DTSTAMP:20260420T132319
CREATED:20200924T185414Z
LAST-MODIFIED:20200924T185742Z
UID:23657-1601841600-1607972399@bayweekly.com
SUMMARY:Annapolis Bold And Blue-A Contemporary Artist Perspective
DESCRIPTION:Annapolis artist Brenda Larson  solo exhibition featuring  originals and Giclee prints  at Main And Market Cafe 914 Bay Ridge Rd. Annapolis \,21403  October 5 – December 14.   Artist Reception November 12 \, 4 PM.  RSVP’S are needed for this event @ Brendalarsonart@gmail.com
URL:https://bayweekly.com/event/annapolis-bold-and-blue-a-contemporary-artist-perspective/
LOCATION:MD
ATTACH;FMTTYPE=image/jpeg:https://bayweekly.com/wp-content/uploads/2020/09/A5626D7C-6476-4675-A7F7-11498FB5ED5A-scaled.jpeg
ORGANIZER;CN="Brenda Larson":MAILTO:Brendalarsonart@gmail.com
END:VEVENT
BEGIN:VEVENT
DTSTART;VALUE=DATE:20201010
DTEND;VALUE=DATE:20201011
DTSTAMP:20260420T132319
CREATED:20200914T211031Z
LAST-MODIFIED:20200914T211031Z
UID:23425-1602288000-1602374399@bayweekly.com
SUMMARY:Toy Boatbuilding
DESCRIPTION:Toy boats will be available as a carry-out craft during each open session at the museum. We will have pre-packaged kits available for pick up in the Harms Gallery\, while supplies last. For ages 5 and up. Sponsored by the Patuxent Small Craft Guild. http://www.calvertmarinemuseum.com/calendar.aspx?EID=1520
URL:https://bayweekly.com/event/toy-boatbuilding-33/
LOCATION:– Calvert Marine Museum 14200 Solomons Island Road S. Solomons MD 20688
END:VEVENT
BEGIN:VEVENT
DTSTART;TZID=America/New_York:20201010T080000
DTEND;TZID=America/New_York:20201010T120000
DTSTAMP:20260420T132319
CREATED:20201008T160745Z
LAST-MODIFIED:20201008T161518Z
UID:24173-1602316800-1602331200@bayweekly.com
SUMMARY:North Beach VFD Yard Sale
DESCRIPTION:Masks and social distancing req’d. 8am-noon\, North Beach VFD: 410-231-1775.
URL:https://bayweekly.com/event/h-beach-vfd-yard-sale/
LOCATION:MD
END:VEVENT
BEGIN:VEVENT
DTSTART;TZID=America/New_York:20201010T080000
DTEND;TZID=America/New_York:20201010T130000
DTSTAMP:20260420T132319
CREATED:20201008T160825Z
LAST-MODIFIED:20201008T160825Z
UID:24176-1602316800-1602334800@bayweekly.com
SUMMARY:Fall Vegetable and Flower Bulb Sale
DESCRIPTION:Purchase fall vegetables and flower bulbs. 8am-1pm\, Smithville United Methodist Church\, 3005 Ferry Landing Road\, Dunkirk: 410-257-3160.
URL:https://bayweekly.com/event/fall-vegetable-and-flower-bulb-sale/
LOCATION:MD
END:VEVENT
BEGIN:VEVENT
DTSTART;TZID=America/New_York:20201010T090000
DTEND;TZID=America/New_York:20201010T163000
DTSTAMP:20260420T132319
CREATED:20201008T155235Z
LAST-MODIFIED:20201008T155235Z
UID:24152-1602320400-1602347400@bayweekly.com
SUMMARY:Mayor’s Cup Pickleball
DESCRIPTION:Annapolis Mayor Gavin Buckley loves to play pickleball\, a hybrid of tennis\, ping-pong and badminton. To celebrate the International Pickleball Federation’s first World Pickleball Day\, the city is hosting a Mayor’s Cup pickleball tournament which will be played at three locations in downtown Annapolis.  Courts will be set up at 9am in the following  locations :  \nTwo courts will be set up at Susan Campbell Park at the end of City Dock;  \nFour courts will be set up on the top level of Hillman Parking Garage; and  \nTwo courts will be set up in the Recovery Zone on West Street.  \nThe competition is expected to last until 1pm on every court.  A demonstration match will be given on West Street around 3pm.  \n“We want to not only showcase how fun pickleball is for people of all ages and abilities\,” said Mayor Buckley. “We want to bring the game to people in popular places.”  \nSara Aiken\, Annapolis’ official pickleball ambassador\, said that enthusiasts of the game wanted to do the Mayor’s Cup\, even with the restrictions  that COVID put on public gatherings.   \n“Doing this event in a physically-distanced\, socially-responsible way helps us spread our love of the sport without spreading coronavirus\,” Aiken said. “We hope people come out to enjoy watching a game\, and get interested in giving it a try through lessons with the Annapolis Pickleball Club. Pickleball was invented in America\, so showcasing our tournament with 25 other countries around the world makes this a historical event.”
URL:https://bayweekly.com/event/mayors-cup-pickleball/
LOCATION:MD
END:VEVENT
BEGIN:VEVENT
DTSTART;TZID=America/New_York:20201010T100000
DTEND;TZID=America/New_York:20201010T140000
DTSTAMP:20260420T132319
CREATED:20201008T161015Z
LAST-MODIFIED:20201008T161015Z
UID:24179-1602324000-1602338400@bayweekly.com
SUMMARY:Patuxent River Clean-Up
DESCRIPTION:Join Annapolis Green to help remove trash and litter from the river from canoes (ages 13+). 10am-2pm\, Jug Bay Wetlands Sanctuary\, Lothian RSVP: https://apm.activecommunities.com/aarecparks/Home  Activity Net #19582
URL:https://bayweekly.com/event/patuxent-river-clean-up/
LOCATION:MD
ATTACH;FMTTYPE=image/jpeg:https://bayweekly.com/wp-content/uploads/2020/10/paxcleanup.jpg
END:VEVENT
BEGIN:VEVENT
DTSTART;TZID=America/New_York:20201010T100000
DTEND;TZID=America/New_York:20201010T170000
DTSTAMP:20260420T132319
CREATED:20200629T180841Z
LAST-MODIFIED:20200925T151825Z
UID:19239-1602324000-1602349200@bayweekly.com
SUMMARY:13th Calvert Arts Festival
DESCRIPTION:New date: Come to the 13th Calvert Arts Festival Saturday\, Oct 10\, from 10 a.m. to 5 p.m.\, for the best Southern Maryland wines and craft beers. Shop from outstanding local juried artisans and food stalls inside and outside. Live entertainment\, delicious food\, children’s crafts\, silent auction and more. Tour our 1692 church and labyrinth. Rain or shine! No admission fee. Proceeds benefit community projects. Free parking at historic All Saints’ Episcopal Church\, Rts 2 & 4\, Sunderland\, MD. Tasting glass for wine or beer plus required age-verification band for just $15. Age verified by picture ID at festival. Save money; reserve your wine or beer glass at https://calvertartsfestival.yapsody.com
URL:https://bayweekly.com/event/13th-calvert-arts-festival/
LOCATION:MD
ATTACH;FMTTYPE=image/jpeg:https://bayweekly.com/wp-content/uploads/2020/04/Perigeaux-Winery-scaled.jpg
END:VEVENT
BEGIN:VEVENT
DTSTART;TZID=America/New_York:20201010T110000
DTEND;TZID=America/New_York:20201010T150000
DTSTAMP:20260420T132319
CREATED:20201003T014504Z
LAST-MODIFIED:20201003T113013Z
UID:24018-1602327600-1602342000@bayweekly.com
SUMMARY:Pumpkin painting by local artists to benefit Annapolis Light House - a Homelessness prevention org.
DESCRIPTION:Come choose an artist painted pumpkin and make a donation to a worthy cause – the Annapolis Light House which serves local people in need of homelessness prevention. Bring non-perishable food items to be given out at the Annapolis Light House.
URL:https://bayweekly.com/event/pumpkin-painting-by-local-artists-to-benefit-annapolis-light-house-a-homelessness-prevention-org/
LOCATION:Gallery 57 West\, 57 West Street\, Annapolis\, 21401
ATTACH;FMTTYPE=image/jpeg:https://bayweekly.com/wp-content/uploads/2020/10/pumpkin-art-charity-event.jpeg
ORGANIZER;CN="Annapolis Arts Alliance":MAILTO:chesapeakepics@gmail.com
END:VEVENT
BEGIN:VEVENT
DTSTART;TZID=America/New_York:20201010T110000
DTEND;TZID=America/New_York:20201010T160000
DTSTAMP:20260420T132319
CREATED:20201008T162249Z
LAST-MODIFIED:20201008T162639Z
UID:24210-1602327600-1602345600@bayweekly.com
SUMMARY:Sandwich Sale
DESCRIPTION:American Legion Post 221 sells pork loin\, sliced roast beef\, and BBQ sandwiches. 11am-4pm\, 21690 Colton’s Point Rd (Rt. 242)\, Avenue\, $7/sandwich: www.alpost221.webs.com/apps/calendar/.
URL:https://bayweekly.com/event/sandwich-sale/
LOCATION:MD
END:VEVENT
BEGIN:VEVENT
DTSTART;TZID=America/New_York:20201010T120000
DTEND;TZID=America/New_York:20201010T160000
DTSTAMP:20260420T132319
CREATED:20201008T161134Z
LAST-MODIFIED:20201008T161134Z
UID:24189-1602331200-1602345600@bayweekly.com
SUMMARY:Wine & Wander
DESCRIPTION:Join volunteer naturalist Diane Diaz-Goebes and staffer Debra Gage for a two-mile hike to the new Jug Bay Farm Preserve to look for signs of fall and learn about the vineyard\, tour the historic home and taste some of the wines (ages 21+). Noon-4pm\, Jug Bay Wetlands Sanctuary\, $25\, RSVP: www.jugbay.org.
URL:https://bayweekly.com/event/wine-wander/
LOCATION:MD
END:VEVENT
BEGIN:VEVENT
DTSTART;TZID=America/New_York:20201010T130000
DTEND;TZID=America/New_York:20201010T143000
DTSTAMP:20260420T132319
CREATED:20201008T161222Z
LAST-MODIFIED:20201008T161222Z
UID:24192-1602334800-1602340200@bayweekly.com
SUMMARY:KIDS Meet the Authors
DESCRIPTION:Saadia Faruqi and Laura Shovan\, authors of A Place at the Table; and Madelyn Rosenberg and Wendy Shang\, authors of Not Your All-American Girl read from their new books and discuss their characters and the challenges they face\, as well as what it’s like to collaborate on a novel. Includes opportunity to ask the authors questions. Hosted by Howard County Library. 1-2:30pm\, RSVP for link: www.hclibrary.org.
URL:https://bayweekly.com/event/kids-meet-the-authors/
LOCATION:MD
END:VEVENT
BEGIN:VEVENT
DTSTART;TZID=America/New_York:20201010T130000
DTEND;TZID=America/New_York:20201010T170000
DTSTAMP:20260420T132319
CREATED:20201008T161617Z
LAST-MODIFIED:20201008T161617Z
UID:24196-1602334800-1602349200@bayweekly.com
SUMMARY:CalvART Gallery Open House
DESCRIPTION:See the October exhibit Borders\, Boundaries & Breaking Free\, featuring the works of Mimi Little and Denise Breitburg; on display thru Nov. 8. 1-5pm\, CalvART Gallery\, Prince Frederick: www.calvartgallery.org.
URL:https://bayweekly.com/event/calvart-gallery-open-house/
LOCATION:MD
ATTACH;FMTTYPE=image/jpeg:https://bayweekly.com/wp-content/uploads/2020/10/mimi-little-painting-3.jpg
END:VEVENT
BEGIN:VEVENT
DTSTART;TZID=America/New_York:20201010T180000
DTEND;TZID=America/New_York:20201010T180000
DTSTAMP:20260420T132319
CREATED:20201008T161732Z
LAST-MODIFIED:20201008T161732Z
UID:24201-1602352800-1602352800@bayweekly.com
SUMMARY:We Love Calvert Arts Festival Finale
DESCRIPTION:Celebrate the end of the online fundraiser with a COVID-safe parade\, bring a mask\, noisemakers\, signs and flags\, plus some cash or the checkbook to help top off the fund; benefits HEART F.E.L.T.\, Children’s Advocacy Center\, Community Ministries of Calvert County\, Calvert Churches Community Food Pantry and Safe Harbor. 6pm\, north end lower parking lot of All Saints Episcopal Church\, 100 Lower Marlboro Road\, Sunderland: 410-286-7586.
URL:https://bayweekly.com/event/we-love-calvert-arts-festival-finale/
LOCATION:MD
END:VEVENT
BEGIN:VEVENT
DTSTART;TZID=America/New_York:20201010T183000
DTEND;TZID=America/New_York:20201010T193000
DTSTAMP:20260420T132319
CREATED:20201008T161829Z
LAST-MODIFIED:20201008T161829Z
UID:24204-1602354600-1602358200@bayweekly.com
SUMMARY:Stars and Smores
DESCRIPTION:Learn about the wonders of the night sky as a ranger guides you through the planets\, constellations\, and satellites. And what goes better with the night sky than a campfire and gooey s’mores? Dress for weather\, wear a mask. 6:30-7:30pm\, Beverly Triton Nature Park\, Mayo\, RSVP: https://tinyurl.com/yyr9yspl.
URL:https://bayweekly.com/event/stars-and-smores/
LOCATION:MD
END:VEVENT
BEGIN:VEVENT
DTSTART;TZID=America/New_York:20201010T200000
DTEND;TZID=America/New_York:20201010T200000
DTSTAMP:20260420T132319
CREATED:20201008T162144Z
LAST-MODIFIED:20201008T162144Z
UID:24207-1602360000-1602360000@bayweekly.com
SUMMARY:Comedy Jam at the Ram
DESCRIPTION:Lucas Bohn headlines this night of comedy\, featuring Pete Bergen and host Rob Maher. 8pm\, Rams Head on Stage\, Annapolis\, $30\, RSVP: www.ramsheadonstage.com.
URL:https://bayweekly.com/event/comedy-jam-at-the-ram/
LOCATION:MD
END:VEVENT
END:VCALENDAR