BEGIN:VCALENDAR
VERSION:2.0
PRODID:-//Bay Weekly - ECPv6.15.17.1//NONSGML v1.0//EN
CALSCALE:GREGORIAN
METHOD:PUBLISH
X-ORIGINAL-URL:https://bayweekly.com
X-WR-CALDESC:Events for Bay Weekly
REFRESH-INTERVAL;VALUE=DURATION:PT1H
X-Robots-Tag:noindex
X-PUBLISHED-TTL:PT1H
BEGIN:VTIMEZONE
TZID:America/New_York
BEGIN:DAYLIGHT
TZOFFSETFROM:-0500
TZOFFSETTO:-0400
TZNAME:EDT
DTSTART:20200308T070000
END:DAYLIGHT
BEGIN:STANDARD
TZOFFSETFROM:-0400
TZOFFSETTO:-0500
TZNAME:EST
DTSTART:20201101T060000
END:STANDARD
BEGIN:DAYLIGHT
TZOFFSETFROM:-0500
TZOFFSETTO:-0400
TZNAME:EDT
DTSTART:20210314T070000
END:DAYLIGHT
BEGIN:STANDARD
TZOFFSETFROM:-0400
TZOFFSETTO:-0500
TZNAME:EST
DTSTART:20211107T060000
END:STANDARD
BEGIN:DAYLIGHT
TZOFFSETFROM:-0500
TZOFFSETTO:-0400
TZNAME:EDT
DTSTART:20220313T070000
END:DAYLIGHT
BEGIN:STANDARD
TZOFFSETFROM:-0400
TZOFFSETTO:-0500
TZNAME:EST
DTSTART:20221106T060000
END:STANDARD
END:VTIMEZONE
BEGIN:VEVENT
DTSTART;VALUE=DATE:20210606
DTEND;VALUE=DATE:20210719
DTSTAMP:20260420T132622
CREATED:20210522T184613Z
LAST-MODIFIED:20210531T233935Z
UID:30037-1622937600-1626652799@bayweekly.com
SUMMARY:Spring Inspirations…A Feast for the Eyes
DESCRIPTION:McBride Gallery is hosting “Spring Inspirations…A Feast for the Eyes”  featuring five painters and two sculptors and a graphite draftsman\, just in time for Annapolis Arts Week\, the first week in June.\nFraternal twin brothers\, Stewart and Stephen Wegner have a selection of creative bronze sculpture including butterflies\, a horseshoe crab and blue crabs. Sherrill Cooper is introducing her ‘Crabby Old Men’ series and Vova Piven is arriving from Ukraine with a selection of new oil paintings of florals\, mysterious forests and action sailing. Sam Robinson is including new landscapes and interiors in gouache and oil. Christopher Best is enjoying his ‘dog fetching’ series as well as paintings of Annapolis and the Chesapeake Bay. David Lawton has started a series of museum visitors as well as his favorite florals and landscapes. Maryland graphite artist Terry Miller\, coming from a solo museum show\, has graced us with new images of forests and favorite farm-life and wild-life. It is a feast for the eyes!\n \nOpening Day: Sunday\, June 6th\, show runs to July 18\, 2021
URL:https://bayweekly.com/event/spring-inspirationsa-feast-for-the-eyes/
LOCATION:McBride Gallery\, 215 Main Street\, Annapolis\, Array\, 21401
ATTACH;FMTTYPE=image/jpeg:https://bayweekly.com/wp-content/uploads/2021/05/Miller_Pastorale9x91450web.jpg
ORGANIZER;CN="McBride Gallery":MAILTO:cynthia@mcbridegallery.com
END:VEVENT
BEGIN:VEVENT
DTSTART;TZID=America/New_York:20210610T073000
DTEND;TZID=America/New_York:20210610T170000
DTSTAMP:20260420T132622
CREATED:20210212T225450Z
LAST-MODIFIED:20210212T230935Z
UID:27733-1623310200-1623344400@bayweekly.com
SUMMARY:18th Annual Friends of The Light House Golf Tournament
DESCRIPTION:Join us for a day of golf to support the Annapolis Light House Homeless Prevention Support Center.  Enjoy golf\, prizes\, raffle and delicious food and drinks. Held at Renditions Golf Course – Golf’s Grand Slam Experience is tribute to golf’s greatest holes. \nThe Light House rebuilds lives with compassion by providing shelter and services to prevent homelessness and empower people as they transition toward employment\, housing and self-sufficiency. Beyond providing food\, clothing\, and shelter\, The Light House also addresses the underlying causes of homelessness such as lack of marketable job skills\, addiction\, and the debilitating effects of both mental and physical health issues.
URL:https://bayweekly.com/event/18th-annual-friends-of-the-light-house-golf-tournament/
LOCATION:Renditions Golf Course\, 1380 W Central Ave\, Davidsonville\, 21035
ATTACH;FMTTYPE=image/jpeg:https://bayweekly.com/wp-content/uploads/2021/02/Golf21socialmedia.jpg
ORGANIZER;CN="Friends of The Light House":MAILTO:events@friendslhs.org
END:VEVENT
BEGIN:VEVENT
DTSTART;TZID=America/New_York:20210610T183000
DTEND;TZID=America/New_York:20210610T193000
DTSTAMP:20260420T132622
CREATED:20210527T140851Z
LAST-MODIFIED:20210527T141108Z
UID:30101-1623349800-1623353400@bayweekly.com
SUMMARY:MSPE June 10 Meeting
DESCRIPTION:The June 10 Meeting of the Annapolis Chapter of the Maryland Society of Professional Engineers will occur at 6:30 p.m. on 10 June 2021 in the Meeting Room of the Double T Diner. The guest lecturer will be Nina DiCarlo from DiCarlo Precision Instrument who will discuss surveying\, G.P.S. and scanner equipment. The meeting is free and the food is good (Must purchase your own chow). Questions… William Rynone\, Ph.D.\, P.E. 410-263-0794 or rynone.eng@gmailcom
URL:https://bayweekly.com/event/mspe-june-10-meeting/
LOCATION:MD
END:VEVENT
BEGIN:VEVENT
DTSTART;TZID=America/New_York:20210610T190000
DTEND;TZID=America/New_York:20210610T190000
DTSTAMP:20260420T132622
CREATED:20210607T195307Z
LAST-MODIFIED:20210607T205423Z
UID:30235-1623351600-1623351600@bayweekly.com
SUMMARY:Film Screening: Rivers and Tides
DESCRIPTION:This astonishing documentary from Thomas Riedelsheimer shadows renowned sculptor Andy Goldsworthy as he creates works of art with ice\,  driftwood\, leaves\, stone\, dirt and snow in open fields\, beaches\, rivers\, creeks and forests. \nCome out for a free community film screening during Annapolis Arts Week.
URL:https://bayweekly.com/event/film-screening-rivers-and-tides/
LOCATION:Maryland Hall\, 801 Chase St.\, Annapolis\, MD\, 21401
ATTACH;FMTTYPE=image/jpeg:https://bayweekly.com/wp-content/uploads/2021/06/Andy-Goldsworthy.jpg
ORGANIZER;CN="Maryland Hall":MAILTO:info@marylandhall.org
END:VEVENT
END:VCALENDAR