BEGIN:VCALENDAR
VERSION:2.0
PRODID:-//Bay Weekly - ECPv6.15.17.1//NONSGML v1.0//EN
CALSCALE:GREGORIAN
METHOD:PUBLISH
X-WR-CALNAME:Bay Weekly
X-ORIGINAL-URL:https://bayweekly.com
X-WR-CALDESC:Events for Bay Weekly
REFRESH-INTERVAL;VALUE=DURATION:PT1H
X-Robots-Tag:noindex
X-PUBLISHED-TTL:PT1H
BEGIN:VTIMEZONE
TZID:America/New_York
BEGIN:DAYLIGHT
TZOFFSETFROM:-0500
TZOFFSETTO:-0400
TZNAME:EDT
DTSTART:20220313T070000
END:DAYLIGHT
BEGIN:STANDARD
TZOFFSETFROM:-0400
TZOFFSETTO:-0500
TZNAME:EST
DTSTART:20221106T060000
END:STANDARD
BEGIN:DAYLIGHT
TZOFFSETFROM:-0500
TZOFFSETTO:-0400
TZNAME:EDT
DTSTART:20230312T070000
END:DAYLIGHT
BEGIN:STANDARD
TZOFFSETFROM:-0400
TZOFFSETTO:-0500
TZNAME:EST
DTSTART:20231105T060000
END:STANDARD
BEGIN:DAYLIGHT
TZOFFSETFROM:-0500
TZOFFSETTO:-0400
TZNAME:EDT
DTSTART:20240310T070000
END:DAYLIGHT
BEGIN:STANDARD
TZOFFSETFROM:-0400
TZOFFSETTO:-0500
TZNAME:EST
DTSTART:20241103T060000
END:STANDARD
END:VTIMEZONE
BEGIN:VEVENT
DTSTART;TZID=America/New_York:20230601T110000
DTEND;TZID=America/New_York:20230625T180000
DTSTAMP:20260420T175505
CREATED:20230519T184231Z
LAST-MODIFIED:20230519T185031Z
UID:53087-1685617200-1687716000@bayweekly.com
SUMMARY:ArtWorks@7th Presents: Wings and Things
DESCRIPTION:For the month of June\, Artworks@7th will host a three-artist collaborative show\, Wings and Things\, representing the freedom to move\, and soar. \nDavy Strong\, an acrylic and oil artist\, loves to capture the local flora and fauna of southern Maryland. Her art explores the bayside\, the fields\, and the living creatures within those environments. “I’ve been working with images of the wildlife I find while walking on the beach or in my garden.” \nNico Gozal has a unique process. All of his works begin with a piece of silk and colored inks. Originally from Indonesia\, he has blended his culture’s crafts with his approach to the world around him. His winged creatures include penguins\, fish\, bees\, and geese in formation. \nThe third artist is Mary Gault\, both a 2-D and 3-D artist. For the show\, expect to see detailed wood sculptures and paintings of many local birds of all sizes\, such as blue herons\, flamingos\, egrets\, and other favorites. Her attention to detail is captivating. \nOur guest artist this month is Pamela Callen\, a past member of the gallery. Beautiful\, poignant\, or striking images she has seen around the world are the reason for her painting. It is her method of communicating on some basic\, universal level with viewers. She says the gift of gab is not her strong suit\, so it is the most meaningful way to share her observations of far-flung or local places\, people\, animals or nature.
URL:https://bayweekly.com/event/artworks7th-presents-wings-and-things/
LOCATION:ArtWorks@7th\, 8905 Chesapeake Ave.\, North Beach\, MD\, United States
END:VEVENT
BEGIN:VEVENT
DTSTART;TZID=America/New_York:20230610T100000
DTEND;TZID=America/New_York:20230617T140000
DTSTAMP:20260420T175505
CREATED:20230306T191446Z
LAST-MODIFIED:20230420T085247Z
UID:51568-1686391200-1687010400@bayweekly.com
SUMMARY:ICONS in Transformation: Free Art Exhibit Benefitting Ukrainian Refugees
DESCRIPTION:ICONS in Transformation is an internationally acclaimed traveling art exhibit featuring contemporary works by expressionist Ludmila Pawlowska depicting light\, love\, spirituality\, and time through her unique medium of three-dimensional paintings. \nDebuting in Annapolis for the first time at St. Martin’s Evangelical Lutheran Church from April 23 through June 11\, 2023\, ICONS in Transformation is an engaging exhibit that is free and open to the public. All artist’s proceeds benefit Ukrainian Refugees. \nExhibit Tour Times April 23-June 11:\nSundays\, Noon to 2 p.m.\nWednesdays\, 4-7 p.m.\nSaturdays\, 10 a.m. to 2 p.m. \nReserve your free exhibit tour today via the Eventbrite link. To arrange a private group tour\, please call 410-757-5090.
URL:https://bayweekly.com/event/icons-in-transformation-free-art-exhibit-benefitting-ukrainian-refugees-2023-06-10/
LOCATION:St. Martin’s Lutheran Church\, 1120 Spa Road\, Annapolis\, MD  21403\, 1120 Spa Road\, Annapolis\, 21403
CATEGORIES:art,Art Gallery Show,Events,fundraiser
ATTACH;FMTTYPE=image/png:https://bayweekly.com/wp-content/uploads/2023/03/Ludmila600x400.png
ORGANIZER;CN="St. Martin&rsquo%3Bs Lutheran Church":MAILTO:church@stmartinsonline.org
END:VEVENT
BEGIN:VEVENT
DTSTART;TZID=America/New_York:20230615T163000
DTEND;TZID=America/New_York:20230615T210000
DTSTAMP:20260420T175505
CREATED:20230331T181840Z
LAST-MODIFIED:20230403T131742Z
UID:52049-1686846600-1686862800@bayweekly.com
SUMMARY:Free Car Shows Every Thursday At The Green Turtle In Edgewater
DESCRIPTION:This is a free event for the family to meet some nice people and look at some very nice cars. Some people arrive around 4:30 and we usually  leave when the sun starts to go down. People and cars come and go all evening so your family can enjoy themselves at any time. We hope to see you on any Thursday this summer.
URL:https://bayweekly.com/event/free-car-shows-every-thursday-at-the-green-turtle-in-edgewater-11/
LOCATION:MD\, United States
ATTACH;FMTTYPE=image/jpeg:https://bayweekly.com/wp-content/uploads/2023/03/car-show.jpg
END:VEVENT
BEGIN:VEVENT
DTSTART;TZID=America/New_York:20230615T180000
DTEND;TZID=America/New_York:20230617T160000
DTSTAMP:20260420T175505
CREATED:20230521T030121Z
LAST-MODIFIED:20230522T125705Z
UID:53105-1686852000-1687017600@bayweekly.com
SUMMARY:RadioActivity Vintage Electronics Show
DESCRIPTION:The Mid-Atlantic Antique Radio Club is holding their annual RadioActivity event\, a vintage electronics show and celebration. Vintage electronics include Radios\, TV\, Phonographs\, Hi-Fi\, Component Audio\, Turntables\, Ham and Military Comms\, Tape recorders\, Early computers and video games\, Test equipment\, Tubes – If it was made in the 20th Century it’s IN!\nThis years theme focuses on vintage electronics of the DelMarVa/DC region. The event includes presentations\, auctions\, flea market\, and a banquet. Meeting highlights include:\n– Tube & Ephemera Auction – Thursday Evening\n– Flea Market – starts at 6:00 am Friday through the day plus Saturday morning\n– Friday Seminars:\n  “History of FM Radio from 1902”\n  “Acquiring and Maintaining a tube tester today”\n  “Assembling a Budget Vintage Hi-Fi System”\n– Old Equipment Contest (OEC) on Friday\n– Fri. Night Banquet talk on “Washington’s Own Silicon Valley”\n– Saturday Seminar – Radio Repair Clinic\n– Main Auction – Saturday at Noon\nFor further detail\, visit MAARC.ORG
URL:https://bayweekly.com/event/radioactivity-vintage-electronics-show/
LOCATION:MD\, United States
END:VEVENT
BEGIN:VEVENT
DTSTART;TZID=America/New_York:20230615T180000
DTEND;TZID=America/New_York:20230617T180000
DTSTAMP:20260420T175505
CREATED:20230524T003102Z
LAST-MODIFIED:20230524T004301Z
UID:53147-1686852000-1687024800@bayweekly.com
SUMMARY:RadioActivity Vintage Electronics Show
DESCRIPTION:The Mid-Atlantic Antique Radio Club is holding their annual RadioActivity event\, a vintage electronics show and celebration\, at The Byzantium Center\, 2747 Riva Road\, Annapolis\, MD. Vintage electronics include Radios\, TV\, Phonographs\, Hi-Fi\, Component Audio\, Turntables\, Ham and Military Comms\, Tape Recorders\, Early Computers and Video Games\, Test Equipment\, Tubes – If it was made in the 20th Century it’s IN!\nThis year’s theme focuses on vintage electronics of the DelMarVa/DC region. The event includes presentations\, auctions\, flea market\, and a banquet. Meeting highlights include:\n– Tube & Ephemera Auction – Thursday Evening\n– Flea Market – starts at 6:00 am Friday through the day plus Saturday morning\n– Friday Seminars:\n“History of FM Radio from 1902”\n“Acquiring and Maintaining a tube tester today”\n“Assembling a Budget Vintage Hi-Fi System”\n– Old Equipment Contest (OEC) on Friday\n– Fri. Night Banquet talk on “Washington’s Own Silicon Valley”\n– Saturday Seminar – Radio Repair Clinic\n– Main Auction – Saturday at Noon\nFor further details\, visit MAARC.ORG/radioactivity-2023/
URL:https://bayweekly.com/event/radioactivity-vintage-electronics-show-2/
LOCATION:The Byzantium Center\, 2747 Riva Rd\, Annapolis\, MD\, 21401\, United States
CATEGORIES:clubs
ATTACH;FMTTYPE=image/jpeg:https://bayweekly.com/wp-content/uploads/2023/05/RadioActivity-2023-Promo-640-480.jpg
END:VEVENT
END:VCALENDAR