BEGIN:VCALENDAR
VERSION:2.0
PRODID:-//Bay Weekly - ECPv6.15.17.1//NONSGML v1.0//EN
CALSCALE:GREGORIAN
METHOD:PUBLISH
X-WR-CALNAME:Bay Weekly
X-ORIGINAL-URL:https://bayweekly.com
X-WR-CALDESC:Events for Bay Weekly
REFRESH-INTERVAL;VALUE=DURATION:PT1H
X-Robots-Tag:noindex
X-PUBLISHED-TTL:PT1H
BEGIN:VTIMEZONE
TZID:America/New_York
BEGIN:DAYLIGHT
TZOFFSETFROM:-0500
TZOFFSETTO:-0400
TZNAME:EDT
DTSTART:20220313T070000
END:DAYLIGHT
BEGIN:STANDARD
TZOFFSETFROM:-0400
TZOFFSETTO:-0500
TZNAME:EST
DTSTART:20221106T060000
END:STANDARD
BEGIN:DAYLIGHT
TZOFFSETFROM:-0500
TZOFFSETTO:-0400
TZNAME:EDT
DTSTART:20230312T070000
END:DAYLIGHT
BEGIN:STANDARD
TZOFFSETFROM:-0400
TZOFFSETTO:-0500
TZNAME:EST
DTSTART:20231105T060000
END:STANDARD
BEGIN:DAYLIGHT
TZOFFSETFROM:-0500
TZOFFSETTO:-0400
TZNAME:EDT
DTSTART:20240310T070000
END:DAYLIGHT
BEGIN:STANDARD
TZOFFSETFROM:-0400
TZOFFSETTO:-0500
TZNAME:EST
DTSTART:20241103T060000
END:STANDARD
END:VTIMEZONE
BEGIN:VEVENT
DTSTART;TZID=America/New_York:20231014T100000
DTEND;TZID=America/New_York:20231015T160000
DTSTAMP:20260421T004418
CREATED:20230709T202547Z
LAST-MODIFIED:20230709T202547Z
UID:53800-1697277600-1697385600@bayweekly.com
SUMMARY:Art @ the Park
DESCRIPTION:The 33rd annual Art @ the Park will be held in Quiet Waters Park on Saturday\, October 14th – Sunday\, October 15th from 10-4 each day. The festival will feature live music and amazing artists from around the tri-state area. Original paintings\, ceramics\, woodworking\, jewelry and more will be on display. There will be food trucks on hand as well as live demonstrations and other activities for the kids. Your dog is welcome in outdoors areas too! Entry fee is $6 per vehicle to enter the park. Come on out and make a day of it!
URL:https://bayweekly.com/event/art-the-park-3/
LOCATION:Quiet Waters Park\, 600 Quiet Waters Park\, Annapolis\, 21403
CATEGORIES:art
ATTACH;FMTTYPE=image/jpeg:https://bayweekly.com/wp-content/uploads/2023/07/Art@the-Park-1-2-rotated.jpg
ORGANIZER;CN="Friends of Quiet Waters":MAILTO:festival@fqwp.org
END:VEVENT
END:VCALENDAR