BEGIN:VCALENDAR
VERSION:2.0
PRODID:-//Bay Weekly - ECPv6.15.17.1//NONSGML v1.0//EN
CALSCALE:GREGORIAN
METHOD:PUBLISH
X-ORIGINAL-URL:https://bayweekly.com
X-WR-CALDESC:Events for Bay Weekly
REFRESH-INTERVAL;VALUE=DURATION:PT1H
X-Robots-Tag:noindex
X-PUBLISHED-TTL:PT1H
BEGIN:VTIMEZONE
TZID:America/New_York
BEGIN:DAYLIGHT
TZOFFSETFROM:-0500
TZOFFSETTO:-0400
TZNAME:EDT
DTSTART:20220313T070000
END:DAYLIGHT
BEGIN:STANDARD
TZOFFSETFROM:-0400
TZOFFSETTO:-0500
TZNAME:EST
DTSTART:20221106T060000
END:STANDARD
BEGIN:DAYLIGHT
TZOFFSETFROM:-0500
TZOFFSETTO:-0400
TZNAME:EDT
DTSTART:20230312T070000
END:DAYLIGHT
BEGIN:STANDARD
TZOFFSETFROM:-0400
TZOFFSETTO:-0500
TZNAME:EST
DTSTART:20231105T060000
END:STANDARD
BEGIN:DAYLIGHT
TZOFFSETFROM:-0500
TZOFFSETTO:-0400
TZNAME:EDT
DTSTART:20240310T070000
END:DAYLIGHT
BEGIN:STANDARD
TZOFFSETFROM:-0400
TZOFFSETTO:-0500
TZNAME:EST
DTSTART:20241103T060000
END:STANDARD
END:VTIMEZONE
BEGIN:VEVENT
DTSTART;TZID=America/New_York:20230108T100000
DTEND;TZID=America/New_York:20230108T140000
DTSTAMP:20260421T161856
CREATED:20221230T172816Z
LAST-MODIFIED:20221230T180135Z
UID:50366-1673172000-1673186400@bayweekly.com
SUMMARY:Hands-On History Day at the Museum of Historic Annapolis
DESCRIPTION:Visit the Museum of Historic Annapolis on the second Sunday of every month for Hands-On History Days. Drop in any time between 10 am and 2 pm for special family activities – a new theme each month means you and your family will want to visit again and again! Activities are included with Museum admission\, which is 1/2 price on second Sundays. \nIn January\, join us to learn about the Civil Rights Movement. \n–Explore the Museum and interact with community members who participated in protests during the Civil Rights Movement in Washington D.C. and Annapolis\n–Engage with an educator in our Curator’s Corner and view objects from the Civil Rights Movement\n–Create your own activist sign and work together to craft blankets for our blanket drive service project\n–Read stories about the Civil Rights Movement with your family in our Anne Arundel County Public Library Book Nook \nThe special Curator’s Corner experience will be offered at 11 am. \nAdvance registration recommended\, but not required. \nCost:
URL:https://bayweekly.com/event/hands-on-history-day-at-the-museum-of-historic-annapolis-2/
LOCATION:Museum of Historic Annapolis\, 99 Main Street\, Annapolis\, 21401
CATEGORIES:children
ATTACH;FMTTYPE=image/png:https://bayweekly.com/wp-content/uploads/2022/12/FB-Event-Cover.png
ORGANIZER;CN="Historic Annapolis%2C Inc.":MAILTO:info@annapolis.rog
END:VEVENT
END:VCALENDAR