BEGIN:VCALENDAR
VERSION:2.0
PRODID:-//Bay Weekly - ECPv6.15.17.1//NONSGML v1.0//EN
CALSCALE:GREGORIAN
METHOD:PUBLISH
X-ORIGINAL-URL:https://bayweekly.com
X-WR-CALDESC:Events for Bay Weekly
REFRESH-INTERVAL;VALUE=DURATION:PT1H
X-Robots-Tag:noindex
X-PUBLISHED-TTL:PT1H
BEGIN:VTIMEZONE
TZID:America/New_York
BEGIN:DAYLIGHT
TZOFFSETFROM:-0500
TZOFFSETTO:-0400
TZNAME:EDT
DTSTART:20220313T070000
END:DAYLIGHT
BEGIN:STANDARD
TZOFFSETFROM:-0400
TZOFFSETTO:-0500
TZNAME:EST
DTSTART:20221106T060000
END:STANDARD
BEGIN:DAYLIGHT
TZOFFSETFROM:-0500
TZOFFSETTO:-0400
TZNAME:EDT
DTSTART:20230312T070000
END:DAYLIGHT
BEGIN:STANDARD
TZOFFSETFROM:-0400
TZOFFSETTO:-0500
TZNAME:EST
DTSTART:20231105T060000
END:STANDARD
BEGIN:DAYLIGHT
TZOFFSETFROM:-0500
TZOFFSETTO:-0400
TZNAME:EDT
DTSTART:20240310T070000
END:DAYLIGHT
BEGIN:STANDARD
TZOFFSETFROM:-0400
TZOFFSETTO:-0500
TZNAME:EST
DTSTART:20241103T060000
END:STANDARD
END:VTIMEZONE
BEGIN:VEVENT
DTSTART;TZID=America/New_York:20230204T160000
DTEND;TZID=America/New_York:20230204T170000
DTSTAMP:20260420T214215
CREATED:20230131T202355Z
LAST-MODIFIED:20230131T202557Z
UID:50948-1675526400-1675530000@bayweekly.com
SUMMARY:Dream House: A Rainy Day Play
DESCRIPTION:Building Better People Productions presents “Dream House: A Rainy Day Play”\, by Jeremy Gable\, a beautiful one-person play starring local actress Taylor Payne.\nThe show is about a young woman named Jenn who moves back to her childhood home\, and faces fears old and new with the help of her imagination. It’s a touching\, lively and funny look at the power of creativity for the child in everyone\, on any day\, rainy or otherwise. Suitable for all ages. \nJoin us on Saturday\, February 4\, 2023 at 4PM at ArtFarm Annapolis\, Tickets are $15 online for people 3 and older and $17 at the door.\nSPECIAL AACPS PERFORMANCE: We are doing a 1PM performance of Dream House just for families of Anne Arundel County Schools at a special price! Tickets to that show can be bought at the door\, or online. \nGet information about both shows at https://bbpproductions.com/dream-house-a-rainy-day-play/
URL:https://bayweekly.com/event/dream-house-a-rainy-day-play/
LOCATION:ArtFarm Studios\, 111 Chinquapin Round Road Suite #200\, Annapolis\, 21401
CATEGORIES:children,theater
ATTACH;FMTTYPE=image/jpeg:https://bayweekly.com/wp-content/uploads/2023/01/38020905_1931928780441024_2880999762201411584_o.jpg
END:VEVENT
BEGIN:VEVENT
DTSTART;TZID=America/New_York:20230212T100000
DTEND;TZID=America/New_York:20230212T140000
DTSTAMP:20260420T214215
CREATED:20230203T215923Z
LAST-MODIFIED:20230203T220627Z
UID:50998-1676196000-1676210400@bayweekly.com
SUMMARY:Hands-On History Day at the Museum of Historic Annapolis
DESCRIPTION:Visit the Museum of Historic Annapolis on the second Sunday of every month for Hands-On History Days. Drop in any time between 10 am and 2 pm for special family activities – a new theme each month means you and your family will want to visit again and again! Activities are included with Museum admission\, which is 1/2 price on second Sundays. \nIn February\, we’ll celebrate Annapolis Love Stories. \n–Explore the Museum and discover all the stories of love shared throughout Annapolis: An American Story.\n–Engage with an educator in our Curator’s Corner and view a special artifact from our collection: dance cards from Carvel Hall.\n–Kids can create their own heart craft and help us build a big heart with blocks!\n–Share your own love story on our community board!\n–Read stories about different kinds of love with your family in our Anne Arundel County Public Library Book Nook. \nThe special Curator’s Corner experience will be offered at 11 am.\nAdvance registration recommended\, but not required.
URL:https://bayweekly.com/event/hands-on-history-day-at-the-museum-of-historic-annapolis-3/
LOCATION:Museum of Historic Annapolis\, 99 Main Street\, Annapolis\, 21401
CATEGORIES:children
ATTACH;FMTTYPE=image/png:https://bayweekly.com/wp-content/uploads/2023/02/Social-2-1.png
ORGANIZER;CN="Historic Annapolis%2C Inc.":MAILTO:info@annapolis.rog
END:VEVENT
END:VCALENDAR