BEGIN:VCALENDAR
VERSION:2.0
PRODID:-//Bay Weekly - ECPv6.15.17.1//NONSGML v1.0//EN
CALSCALE:GREGORIAN
METHOD:PUBLISH
X-WR-CALNAME:Bay Weekly
X-ORIGINAL-URL:https://bayweekly.com
X-WR-CALDESC:Events for Bay Weekly
REFRESH-INTERVAL;VALUE=DURATION:PT1H
X-Robots-Tag:noindex
X-PUBLISHED-TTL:PT1H
BEGIN:VTIMEZONE
TZID:America/New_York
BEGIN:DAYLIGHT
TZOFFSETFROM:-0500
TZOFFSETTO:-0400
TZNAME:EDT
DTSTART:20220313T070000
END:DAYLIGHT
BEGIN:STANDARD
TZOFFSETFROM:-0400
TZOFFSETTO:-0500
TZNAME:EST
DTSTART:20221106T060000
END:STANDARD
BEGIN:DAYLIGHT
TZOFFSETFROM:-0500
TZOFFSETTO:-0400
TZNAME:EDT
DTSTART:20230312T070000
END:DAYLIGHT
BEGIN:STANDARD
TZOFFSETFROM:-0400
TZOFFSETTO:-0500
TZNAME:EST
DTSTART:20231105T060000
END:STANDARD
BEGIN:DAYLIGHT
TZOFFSETFROM:-0500
TZOFFSETTO:-0400
TZNAME:EDT
DTSTART:20240310T070000
END:DAYLIGHT
BEGIN:STANDARD
TZOFFSETFROM:-0400
TZOFFSETTO:-0500
TZNAME:EST
DTSTART:20241103T060000
END:STANDARD
END:VTIMEZONE
BEGIN:VEVENT
DTSTART;TZID=America/New_York:20230304T110000
DTEND;TZID=America/New_York:20230304T120000
DTSTAMP:20260420T093242
CREATED:20230220T214939Z
LAST-MODIFIED:20230220T221317Z
UID:51308-1677927600-1677931200@bayweekly.com
SUMMARY:Read Across America Storytime
DESCRIPTION:Celebrate ‘Read Across America Day’ at the Museum of Historic Annapolis! Local author Priscilla Cummings will read aloud her book\, ‘Chesapeake Rainbow\,’ at a special Storytime presentation. After storytime\, explore the Museum on a special rainbow scavenger hunt! \n‘Chesapeake Rainbow’ helps youngsters learn their colors. Blue is the color of the water in the Bay\, and blue is the color of a perfect day. The heron that we call Great Blue is blue. The stripe down a crab’s leg? It’s blue\, too. Blue is the color of the Chesapeake Bay. Let’s think of another that we see every day. The book is a bright and wonderful companion book to the popular Chesapeake ABC and Chesapeake 1-2-3. \nBring along your personal copy of ‘Chesapeake Rainbow’ for Ms. Cummings to sign! A limited number of books will be available for purchase (cash or check only). \nRegistration required for this special program; space is limited. Program registration includes admission to the Museum.
URL:https://bayweekly.com/event/read-across-america-storytime/
LOCATION:Museum of Historic Annapolis\, 99 Main Street\, Annapolis\, 21401
CATEGORIES:children
ATTACH;FMTTYPE=image/png:https://bayweekly.com/wp-content/uploads/2023/02/Social-2-2-.png
ORGANIZER;CN="Historic Annapolis%2C Inc.":MAILTO:info@annapolis.rog
END:VEVENT
BEGIN:VEVENT
DTSTART;TZID=America/New_York:20230311T130000
DTEND;TZID=America/New_York:20230311T160000
DTSTAMP:20260420T093242
CREATED:20230222T200841Z
LAST-MODIFIED:20230222T202332Z
UID:51343-1678539600-1678550400@bayweekly.com
SUMMARY:Emojis for the Chesapeake: Empowering Youth Voices
DESCRIPTION:We invite students in grades 3-5 to participate in our heritage-related arts program! Learn about our evolving relationships to the Chesapeake Bay through hands-on learning and discussion sessions; to contemplate our relationship to the Bay; and to express this relationship though art. This is a great experience for scout troops\, home-school families\, and anyone interested in nature or art. \nThe artwork will be on display at Captain Avery Museum the months of April and May. On Sunday\, April 2\, from 1 to 4 pm\, Captain Avery will host an art reception for the student artists. The public is invited to enjoy the reception and experience the same demonstrations. \nThe learning sessions take place on Saturday and the art production session will be on Sunday. (Kids are expected to attend both days.) They will learn from local historians\, watermen\, ecologists\, stewards\, artists\, and each other! Snacks will be provided. Transportation is not provided and must be arranged independently. High school students and adult volunteers can sign up to assist the children by emailing admin@captainaverymuseum.org. This program is funded by Chesapeake Crossroads Heritage Area.
URL:https://bayweekly.com/event/emojis-for-the-chesapeake-empowering-youth-voices/
LOCATION:Captain Avery Museum\, 1418 East West Shady Side Road\, Shady Side\, 20764
CATEGORIES:art,children,environment,nature,outdoors,volunteering
ATTACH;FMTTYPE=image/png:https://bayweekly.com/wp-content/uploads/2023/02/emojis-small.png
ORGANIZER;CN="Captain Avery Museum":MAILTO:programs@captainaverymuseum.org
END:VEVENT
BEGIN:VEVENT
DTSTART;TZID=America/New_York:20230312T100000
DTEND;TZID=America/New_York:20230312T140000
DTSTAMP:20260420T093242
CREATED:20230224T044822Z
LAST-MODIFIED:20230224T145728Z
UID:51371-1678615200-1678629600@bayweekly.com
SUMMARY:Hands-On History Day at the Museum of Historic Annapolis
DESCRIPTION:Visit the Museum of Historic Annapolis on the second Sunday of every month for Hands-On History Days. Drop in any time between 10 am and 2 pm for special family activities – a new theme each month means you and your family will want to visit again and again! Activities are included with Museum admission. \nIn March\, we are celebrating Women’s History and the power of Women! \n–Meet and talk with our special guest: Barbara Hopkins! Barbara was the first female police officer and first female police Captain in the City of Annapolis (special opportunity between 11 am and 1 pm)\n–Interact with Camp Followers from the Revolutionary War! Learn from these living history interpreters about the key role of women during the war for independence (special opportunity between 11 am and 1 pm)\n–Explore the Museum and discover the many contributions of women to our community throughout Annapolis: An American Story\n–Kids will learn about how Suffragettes secured the right to vote and can create their own rosette\n–Read stories about inspiring women with your family in our Anne Arundel County Public Library Book Nook
URL:https://bayweekly.com/event/hands-on-history-day-at-the-museum-of-historic-annapolis-4/
LOCATION:Museum of Historic Annapolis\, 99 Main Street\, Annapolis\, 21401
CATEGORIES:children
ATTACH;FMTTYPE=image/png:https://bayweekly.com/wp-content/uploads/2023/02/FB-Event-Cover-1.png
ORGANIZER;CN="Historic Annapolis%2C Inc.":MAILTO:info@annapolis.rog
END:VEVENT
BEGIN:VEVENT
DTSTART;TZID=America/New_York:20230312T130000
DTEND;TZID=America/New_York:20230312T160000
DTSTAMP:20260420T093242
CREATED:20230222T200841Z
LAST-MODIFIED:20230222T202333Z
UID:51345-1678626000-1678636800@bayweekly.com
SUMMARY:Emojis for the Chesapeake: Empowering Youth Voices
DESCRIPTION:We invite students in grades 3-5 to participate in our heritage-related arts program! Learn about our evolving relationships to the Chesapeake Bay through hands-on learning and discussion sessions; to contemplate our relationship to the Bay; and to express this relationship though art. This is a great experience for scout troops\, home-school families\, and anyone interested in nature or art. \nThe artwork will be on display at Captain Avery Museum the months of April and May. On Sunday\, April 2\, from 1 to 4 pm\, Captain Avery will host an art reception for the student artists. The public is invited to enjoy the reception and experience the same demonstrations. \nThe learning sessions take place on Saturday and the art production session will be on Sunday. (Kids are expected to attend both days.) They will learn from local historians\, watermen\, ecologists\, stewards\, artists\, and each other! Snacks will be provided. Transportation is not provided and must be arranged independently. High school students and adult volunteers can sign up to assist the children by emailing admin@captainaverymuseum.org. This program is funded by Chesapeake Crossroads Heritage Area.
URL:https://bayweekly.com/event/emojis-for-the-chesapeake-empowering-youth-voices-2023-03-12/
LOCATION:Captain Avery Museum\, 1418 East West Shady Side Road\, Shady Side\, 20764
CATEGORIES:art,children,environment,nature,outdoors,volunteering
ATTACH;FMTTYPE=image/png:https://bayweekly.com/wp-content/uploads/2023/02/emojis-small.png
ORGANIZER;CN="Captain Avery Museum":MAILTO:programs@captainaverymuseum.org
END:VEVENT
BEGIN:VEVENT
DTSTART;TZID=America/New_York:20230313T160000
DTEND;TZID=America/New_York:20230313T190000
DTSTAMP:20260420T093242
CREATED:20230303T205014Z
LAST-MODIFIED:20230303T205552Z
UID:51496-1678723200-1678734000@bayweekly.com
SUMMARY:Auditions - Wizard of Oz
DESCRIPTION:THE WIZARD OF Oz: Auditions by APPOINTMENT\nYouth and Adults Needed\nCompass Rose Theater \nwww.compassrosetheater.org \n1st rehearsal: March 18\, 2023\nOpens April 14\, 2023 runs through May 28\, 2023 (Thursday – Sunday evenings\, Saturday and Sunday matinees\, select weekday matinees)\nSEEKING MULTIPLE ROLES FOR UPCOMING MAIN STAGE PRODUCTION \nBoth Equity and Non-Equity Actors welcome – all roles paid.\nEquity Contract: Special Appearance\, Level TBA\nAuditions: Monday\, March 13\, 4-7 PM \nIn-person auditions will be held at Compass Rose Theater\, 801 Chase Street\, Room 308\, Annapolis\, MD. 21401.\nFor an Audition Appointment\, please email office@compassrosetheater.org. \nDescription: The fanciful and heartwarming tale of Dorothy who wishes for a better life\, a better place\, and is transported to OZ\, where there are good and bad witches and friends to help her as she realizes that there is no place like home.\nSeeking the following roles. (All other roles cast.) Actors must be able to move and carry a tune. Cast doubling will occur throughout the play. \n-Munchkins: Five young actors who are less than 50 inches tall. Ages 6-11. \n-Mayor of the Munchkins\n-The Wizard of Oz\n-Aunt Em
URL:https://bayweekly.com/event/auditions-wizard-of-oz/
LOCATION:Compass Rose Theater at Maryland Hall\, 801 Chase St.\, Annapolis\, MD\, 21401\, United States
CATEGORIES:children
ATTACH;FMTTYPE=image/jpeg:https://bayweekly.com/wp-content/uploads/2023/03/Wizard-for-Instant-Seat.jpg
ORGANIZER;CN="Compass Rose Theater":MAILTO:office@compassrosetheater.org
END:VEVENT
BEGIN:VEVENT
DTSTART;TZID=America/New_York:20230316T100000
DTEND;TZID=America/New_York:20230316T113000
DTSTAMP:20260420T093242
CREATED:20230302T170528Z
LAST-MODIFIED:20230302T170625Z
UID:51461-1678960800-1678966200@bayweekly.com
SUMMARY:Preschool Open House
DESCRIPTION:You are invited an Open House on Thursday\, March 16th 10am-11:30am. This will be a time for prospective families to meet the director\, tour our facility\, and Q&A time for us to questions might have about our school program. Children will have time to explore our playground with their parents and engage in fun hands-on activities in a classroom environment.\nRefreshments for children and coffee for adults will be served.\nFor more information: Call us 410-263-6680 or email us at Vickie@HeritageLOVES.com
URL:https://bayweekly.com/event/preschool-open-house/
LOCATION:Heritage Learning Center\, 1740 Forest Drive\, Annapolis\, 21401
CATEGORIES:children
ATTACH;FMTTYPE=image/png:https://bayweekly.com/wp-content/uploads/2023/03/HLC-Square-logo.png
ORGANIZER;CN="Heritage Learning Center":MAILTO:vickie@heritageloves.com
END:VEVENT
BEGIN:VEVENT
DTSTART;TZID=America/New_York:20230318T130000
DTEND;TZID=America/New_York:20230318T160000
DTSTAMP:20260420T093242
CREATED:20230222T200841Z
LAST-MODIFIED:20230222T202333Z
UID:51346-1679144400-1679155200@bayweekly.com
SUMMARY:Emojis for the Chesapeake: Empowering Youth Voices
DESCRIPTION:We invite students in grades 3-5 to participate in our heritage-related arts program! Learn about our evolving relationships to the Chesapeake Bay through hands-on learning and discussion sessions; to contemplate our relationship to the Bay; and to express this relationship though art. This is a great experience for scout troops\, home-school families\, and anyone interested in nature or art. \nThe artwork will be on display at Captain Avery Museum the months of April and May. On Sunday\, April 2\, from 1 to 4 pm\, Captain Avery will host an art reception for the student artists. The public is invited to enjoy the reception and experience the same demonstrations. \nThe learning sessions take place on Saturday and the art production session will be on Sunday. (Kids are expected to attend both days.) They will learn from local historians\, watermen\, ecologists\, stewards\, artists\, and each other! Snacks will be provided. Transportation is not provided and must be arranged independently. High school students and adult volunteers can sign up to assist the children by emailing admin@captainaverymuseum.org. This program is funded by Chesapeake Crossroads Heritage Area.
URL:https://bayweekly.com/event/emojis-for-the-chesapeake-empowering-youth-voices-2023-03-18/
LOCATION:Captain Avery Museum\, 1418 East West Shady Side Road\, Shady Side\, 20764
CATEGORIES:art,children,environment,nature,outdoors,volunteering
ATTACH;FMTTYPE=image/png:https://bayweekly.com/wp-content/uploads/2023/02/emojis-small.png
ORGANIZER;CN="Captain Avery Museum":MAILTO:programs@captainaverymuseum.org
END:VEVENT
BEGIN:VEVENT
DTSTART;TZID=America/New_York:20230319T130000
DTEND;TZID=America/New_York:20230319T160000
DTSTAMP:20260420T093242
CREATED:20230222T200841Z
LAST-MODIFIED:20230222T202334Z
UID:51347-1679230800-1679241600@bayweekly.com
SUMMARY:Emojis for the Chesapeake: Empowering Youth Voices
DESCRIPTION:We invite students in grades 3-5 to participate in our heritage-related arts program! Learn about our evolving relationships to the Chesapeake Bay through hands-on learning and discussion sessions; to contemplate our relationship to the Bay; and to express this relationship though art. This is a great experience for scout troops\, home-school families\, and anyone interested in nature or art. \nThe artwork will be on display at Captain Avery Museum the months of April and May. On Sunday\, April 2\, from 1 to 4 pm\, Captain Avery will host an art reception for the student artists. The public is invited to enjoy the reception and experience the same demonstrations. \nThe learning sessions take place on Saturday and the art production session will be on Sunday. (Kids are expected to attend both days.) They will learn from local historians\, watermen\, ecologists\, stewards\, artists\, and each other! Snacks will be provided. Transportation is not provided and must be arranged independently. High school students and adult volunteers can sign up to assist the children by emailing admin@captainaverymuseum.org. This program is funded by Chesapeake Crossroads Heritage Area.
URL:https://bayweekly.com/event/emojis-for-the-chesapeake-empowering-youth-voices-2023-03-19/
LOCATION:Captain Avery Museum\, 1418 East West Shady Side Road\, Shady Side\, 20764
CATEGORIES:art,children,environment,nature,outdoors,volunteering
ATTACH;FMTTYPE=image/png:https://bayweekly.com/wp-content/uploads/2023/02/emojis-small.png
ORGANIZER;CN="Captain Avery Museum":MAILTO:programs@captainaverymuseum.org
END:VEVENT
END:VCALENDAR