BEGIN:VCALENDAR
VERSION:2.0
PRODID:-//Bay Weekly - ECPv6.15.17.1//NONSGML v1.0//EN
CALSCALE:GREGORIAN
METHOD:PUBLISH
X-ORIGINAL-URL:https://bayweekly.com
X-WR-CALDESC:Events for Bay Weekly
REFRESH-INTERVAL;VALUE=DURATION:PT1H
X-Robots-Tag:noindex
X-PUBLISHED-TTL:PT1H
BEGIN:VTIMEZONE
TZID:America/New_York
BEGIN:DAYLIGHT
TZOFFSETFROM:-0500
TZOFFSETTO:-0400
TZNAME:EDT
DTSTART:20220313T070000
END:DAYLIGHT
BEGIN:STANDARD
TZOFFSETFROM:-0400
TZOFFSETTO:-0500
TZNAME:EST
DTSTART:20221106T060000
END:STANDARD
BEGIN:DAYLIGHT
TZOFFSETFROM:-0500
TZOFFSETTO:-0400
TZNAME:EDT
DTSTART:20230312T070000
END:DAYLIGHT
BEGIN:STANDARD
TZOFFSETFROM:-0400
TZOFFSETTO:-0500
TZNAME:EST
DTSTART:20231105T060000
END:STANDARD
BEGIN:DAYLIGHT
TZOFFSETFROM:-0500
TZOFFSETTO:-0400
TZNAME:EDT
DTSTART:20240310T070000
END:DAYLIGHT
BEGIN:STANDARD
TZOFFSETFROM:-0400
TZOFFSETTO:-0500
TZNAME:EST
DTSTART:20241103T060000
END:STANDARD
END:VTIMEZONE
BEGIN:VEVENT
DTSTART;TZID=America/New_York:20230610T080000
DTEND;TZID=America/New_York:20230610T140000
DTSTAMP:20260422T120331
CREATED:20230413T130712Z
LAST-MODIFIED:20230413T131055Z
UID:52319-1686384000-1686405600@bayweekly.com
SUMMARY:Boy Scouts Troop 853 Spring Fling
DESCRIPTION:Come meet and greet the local Boy Scouts Troop 853. If you are thinking about joining Scouts\, this is a great place to take a peek inside our troop. We will have fun and food and shopping! \nMini photo sessions\, hot dogs\, hamburgers\, baked goods and lots more! \nThere is even a separate local yard sale section where you can find some great deals! \nMark your calendars! Saturday June 10th 8-2pm\nShady Side Community Center\n8-2pm
URL:https://bayweekly.com/event/boy-scouts-troop-853-spring-fling/
LOCATION:Shady Side Community Center\, 1431 Snug Harbor Road\, Shady Side\, 20764
CATEGORIES:children,clubs,fundraiser
ATTACH;FMTTYPE=image/png:https://bayweekly.com/wp-content/uploads/2023/04/Spring-Fling-flyer.png
ORGANIZER;CN="Boy ScoutTroop 853":MAILTO:jenjuice10@hotmail.com
END:VEVENT
BEGIN:VEVENT
DTSTART;TZID=America/New_York:20230610T080000
DTEND;TZID=America/New_York:20230610T140000
DTSTAMP:20260422T120331
CREATED:20230413T131028Z
LAST-MODIFIED:20230419T144741Z
UID:52325-1686384000-1686405600@bayweekly.com
SUMMARY:Boy Scouts Troop 853 Spring Fling
DESCRIPTION:Come meet and greet the local Boy Scouts Troop 853.  \nIf you are thinking about joining Scouts\, this is a great place to take a peek inside our troop.  We will have fun and food and shopping!   \nMini photo sessions\, hot dogs\, hamburgers\, baked goods and lots more!  \nThere is even a separate local yard sale section where you can find some great deals!
URL:https://bayweekly.com/event/boy-scouts-troop-853-spring-fling-2/
LOCATION:Shady Side Community Center\, 1431 Snug Harbor Road\, Shady Side\, 20764
CATEGORIES:children,clubs,fundraiser
ORGANIZER;CN="Boy ScoutTroop 853":MAILTO:jenjuice10@hotmail.com
END:VEVENT
BEGIN:VEVENT
DTSTART;TZID=America/New_York:20230613T100000
DTEND;TZID=America/New_York:20230613T110000
DTSTAMP:20260422T120331
CREATED:20230607T014239Z
LAST-MODIFIED:20230609T161913Z
UID:53341-1686650400-1686654000@bayweekly.com
SUMMARY:Mr. Paca's Garden Storytime: F is for Flag
DESCRIPTION:Mr. Paca’s Garden Storytime is a fun hour full of reading and activities in the William Paca Garden\, a secret treasure in the Historic District of Annapolis. Each program is designed for little ones\, 3-7 years\, with a book reading\, song\, and craft/art project\, plus time to explore the Paca Garden following the story hour. \nThis Week’s Book: F is for Flag by Wendy Cheyette Lewison \nWhat does the American Flag mean to you? One flag can mean so many things to so many different people. For some it is a symbol of opportunity or a sign of welcome. Join us and discover the many nicknames of our flag and discover what each star represents. We will celebrate Flag Day and create a very special Father’s Day craft. \nAdvance registration required\, space is limited and the series books fast!
URL:https://bayweekly.com/event/mr-pacas-garden-storytime-f-is-for-flag/
LOCATION:William Paca House &amp; Garden\, 186 Prince George Street\, 186 Prince George Street\, Annapolis\, MD\, 21401
CATEGORIES:children
ATTACH;FMTTYPE=image/png:https://bayweekly.com/wp-content/uploads/2023/06/Mr.-Pacas-Garden-1.png
ORGANIZER;CN="Historic Annapolis%2C Inc.":MAILTO:info@annapolis.rog
END:VEVENT
BEGIN:VEVENT
DTSTART;TZID=America/New_York:20230619T090000
DTEND;TZID=America/New_York:20230623T160000
DTSTAMP:20260422T120331
CREATED:20230215T232856Z
LAST-MODIFIED:20230215T233751Z
UID:51211-1687165200-1687536000@bayweekly.com
SUMMARY:Summer Camp - Create a Play
DESCRIPTION:Elementary-aged young actors will have the chance to wear many theatrical hats: playwright\, collaborator\, actor\, and designer. Students jump into the world of storytelling as they develop an original play. They work to create dynamic characters with clear objectives\, solve problems creatively\, and perform their final product. Students work together to create sets and characterizations that support their imagination as their words become reality. Invite your family to the final sharing of your creation!
URL:https://bayweekly.com/event/summer-camp-create-a-play/
LOCATION:Maryland Hall for the Creative Arts\, 801 Chase Street\, Annapolis\, 21401
CATEGORIES:children,class,theater,workshop
ATTACH;FMTTYPE=image/jpeg:https://bayweekly.com/wp-content/uploads/2023/02/31882977_1924885547586662_2831234938215333888_n.jpg
END:VEVENT
BEGIN:VEVENT
DTSTART;TZID=America/New_York:20230621T170000
DTEND;TZID=America/New_York:20230621T180000
DTSTAMP:20260422T120331
CREATED:20230608T213239Z
LAST-MODIFIED:20230608T213418Z
UID:53368-1687366800-1687370400@bayweekly.com
SUMMARY:Summer Camp Open House
DESCRIPTION:Summer Camp Open House to teach kids to “play” like a pro! \nCompass Rose Theater invites you to its Theater Summer Camp Open House on Wednesday\, June 21st\, at 5 pm at Maryland Hall (Third Floor). Theater game demonstrations start at 5:15\, so don’t be late! \nWeekly theater summer camps for ages 5-teens begin June 20 and run through August from 9-4\, Mondays – Fridays. Camp themes include Create a Play\, Welcome to Theater\, Play Production\, Improv\, Theater Bootcamp\, and Fairytales on Stage (limited spaces remain). Camps are led by experienced theater teachers with a B.A. or Master’s Degree in Theater and are professional\, working actors. Click here to register. For more information\, call Compass Rose Theater at 410-980-6662\, or come to the Open House at Maryland Hall (801 Chase St.\, Annapolis) on June 21 between 5–6 pm\, where kids can get a sneak peek at theater camp! \n(link: https://www.marylandhall.org/classes/categories/drama-theater/)
URL:https://bayweekly.com/event/summer-camp-open-house/
LOCATION:Compass Rose Theater at Maryland Hall\, 801 Chase St.\, Annapolis\, MD\, 21401\, United States
CATEGORIES:children,theater
ATTACH;FMTTYPE=image/png:https://bayweekly.com/wp-content/uploads/2023/06/no-date-Open-House-Summer-Camp.png
ORGANIZER;CN="Compass Rose Theater":MAILTO:office@compassrosetheater.org
END:VEVENT
BEGIN:VEVENT
DTSTART;TZID=America/New_York:20230622T163000
DTEND;TZID=America/New_York:20230622T210000
DTSTAMP:20260422T120331
CREATED:20230331T181840Z
LAST-MODIFIED:20230403T131743Z
UID:52051-1687451400-1687467600@bayweekly.com
SUMMARY:Free Car Shows Every Thursday At The Green Turtle In Edgewater
DESCRIPTION:This is a free event for the family to meet some nice people and look at some very nice cars. Some people arrive around 4:30 and we usually  leave when the sun starts to go down. People and cars come and go all evening so your family can enjoy themselves at any time. We hope to see you on any Thursday this summer.
URL:https://bayweekly.com/event/2023-06-22/
LOCATION:MD\, United States
CATEGORIES:art,children,clubs,photography,recreation
ATTACH;FMTTYPE=image/jpeg:https://bayweekly.com/wp-content/uploads/2023/03/car-show.jpg
END:VEVENT
BEGIN:VEVENT
DTSTART;TZID=America/New_York:20230626T090000
DTEND;TZID=America/New_York:20230630T123000
DTSTAMP:20260422T120331
CREATED:20230516T161204Z
LAST-MODIFIED:20230516T161425Z
UID:53031-1687770000-1688128200@bayweekly.com
SUMMARY:Vacation Bible School
DESCRIPTION:The Stellar: Shine Jesus’ Light program focuses on experiencing God’s word through rotations that reinforce relevant Bible Points and immerse kids in new adventures.\nCamp will take place June 26-June 30 from 9am-12:30pm at the St. Margaret’s Campus for kids entering Pre-K to Entering 5th grade for camp and Middle Schoolers as Pre-Counselors. Activities will include a bible lesson\, games\, music\, and crafts/STEM activities. Cost of camp is The Stellar: Shine Jesus’ Light program focuses on experiencing God’s word through rotations that reinforce relevant Bible Points and immerse kids in new adventures.\nCamp will take place June 26-June 30 from 9am-12:30pm at the St. Margaret’s Campus for kids entering Pre-K to Entering 5th grade for camp and Middle Schoolers as Pre-Counselors. Activities will include a bible lesson\, games\, music\, and crafts/STEM activities. Cost of camp is $50 with a 50% discount for volunteers.
URL:https://bayweekly.com/event/vacation-bible-school/
LOCATION:St. Margaret's Church\, 1601 Pleasant Plains Road\, Annapolis\, MD\, 21409\, United States
CATEGORIES:children
END:VEVENT
BEGIN:VEVENT
DTSTART;TZID=America/New_York:20230629T163000
DTEND;TZID=America/New_York:20230629T210000
DTSTAMP:20260422T120331
CREATED:20230331T181840Z
LAST-MODIFIED:20230403T131743Z
UID:52052-1688056200-1688072400@bayweekly.com
SUMMARY:Free Car Shows Every Thursday At The Green Turtle In Edgewater
DESCRIPTION:This is a free event for the family to meet some nice people and look at some very nice cars. Some people arrive around 4:30 and we usually  leave when the sun starts to go down. People and cars come and go all evening so your family can enjoy themselves at any time. We hope to see you on any Thursday this summer.
URL:https://bayweekly.com/event/2023-06-29/
LOCATION:MD\, United States
CATEGORIES:art,children,clubs,photography,recreation
ATTACH;FMTTYPE=image/jpeg:https://bayweekly.com/wp-content/uploads/2023/03/car-show.jpg
END:VEVENT
END:VCALENDAR