BEGIN:VCALENDAR
VERSION:2.0
PRODID:-//Bay Weekly - ECPv6.15.17.1//NONSGML v1.0//EN
CALSCALE:GREGORIAN
METHOD:PUBLISH
X-WR-CALNAME:Bay Weekly
X-ORIGINAL-URL:https://bayweekly.com
X-WR-CALDESC:Events for Bay Weekly
REFRESH-INTERVAL;VALUE=DURATION:PT1H
X-Robots-Tag:noindex
X-PUBLISHED-TTL:PT1H
BEGIN:VTIMEZONE
TZID:America/New_York
BEGIN:DAYLIGHT
TZOFFSETFROM:-0500
TZOFFSETTO:-0400
TZNAME:EDT
DTSTART:20220313T070000
END:DAYLIGHT
BEGIN:STANDARD
TZOFFSETFROM:-0400
TZOFFSETTO:-0500
TZNAME:EST
DTSTART:20221106T060000
END:STANDARD
BEGIN:DAYLIGHT
TZOFFSETFROM:-0500
TZOFFSETTO:-0400
TZNAME:EDT
DTSTART:20230312T070000
END:DAYLIGHT
BEGIN:STANDARD
TZOFFSETFROM:-0400
TZOFFSETTO:-0500
TZNAME:EST
DTSTART:20231105T060000
END:STANDARD
BEGIN:DAYLIGHT
TZOFFSETFROM:-0500
TZOFFSETTO:-0400
TZNAME:EDT
DTSTART:20240310T070000
END:DAYLIGHT
BEGIN:STANDARD
TZOFFSETFROM:-0400
TZOFFSETTO:-0500
TZNAME:EST
DTSTART:20241103T060000
END:STANDARD
END:VTIMEZONE
BEGIN:VEVENT
DTSTART;TZID=America/New_York:20230304T110000
DTEND;TZID=America/New_York:20230304T120000
DTSTAMP:20260420T052916
CREATED:20230220T214939Z
LAST-MODIFIED:20230220T221317Z
UID:51308-1677927600-1677931200@bayweekly.com
SUMMARY:Read Across America Storytime
DESCRIPTION:Celebrate ‘Read Across America Day’ at the Museum of Historic Annapolis! Local author Priscilla Cummings will read aloud her book\, ‘Chesapeake Rainbow\,’ at a special Storytime presentation. After storytime\, explore the Museum on a special rainbow scavenger hunt! \n‘Chesapeake Rainbow’ helps youngsters learn their colors. Blue is the color of the water in the Bay\, and blue is the color of a perfect day. The heron that we call Great Blue is blue. The stripe down a crab’s leg? It’s blue\, too. Blue is the color of the Chesapeake Bay. Let’s think of another that we see every day. The book is a bright and wonderful companion book to the popular Chesapeake ABC and Chesapeake 1-2-3. \nBring along your personal copy of ‘Chesapeake Rainbow’ for Ms. Cummings to sign! A limited number of books will be available for purchase (cash or check only). \nRegistration required for this special program; space is limited. Program registration includes admission to the Museum.
URL:https://bayweekly.com/event/read-across-america-storytime/
LOCATION:Museum of Historic Annapolis\, 99 Main Street\, Annapolis\, 21401
CATEGORIES:children
ATTACH;FMTTYPE=image/png:https://bayweekly.com/wp-content/uploads/2023/02/Social-2-2-.png
ORGANIZER;CN="Historic Annapolis%2C Inc.":MAILTO:info@annapolis.rog
END:VEVENT
END:VCALENDAR