BEGIN:VCALENDAR
VERSION:2.0
PRODID:-//Bay Weekly - ECPv6.15.17.1//NONSGML v1.0//EN
CALSCALE:GREGORIAN
METHOD:PUBLISH
X-ORIGINAL-URL:https://bayweekly.com
X-WR-CALDESC:Events for Bay Weekly
REFRESH-INTERVAL;VALUE=DURATION:PT1H
X-Robots-Tag:noindex
X-PUBLISHED-TTL:PT1H
BEGIN:VTIMEZONE
TZID:America/New_York
BEGIN:DAYLIGHT
TZOFFSETFROM:-0500
TZOFFSETTO:-0400
TZNAME:EDT
DTSTART:20220313T070000
END:DAYLIGHT
BEGIN:STANDARD
TZOFFSETFROM:-0400
TZOFFSETTO:-0500
TZNAME:EST
DTSTART:20221106T060000
END:STANDARD
BEGIN:DAYLIGHT
TZOFFSETFROM:-0500
TZOFFSETTO:-0400
TZNAME:EDT
DTSTART:20230312T070000
END:DAYLIGHT
BEGIN:STANDARD
TZOFFSETFROM:-0400
TZOFFSETTO:-0500
TZNAME:EST
DTSTART:20231105T060000
END:STANDARD
BEGIN:DAYLIGHT
TZOFFSETFROM:-0500
TZOFFSETTO:-0400
TZNAME:EDT
DTSTART:20240310T070000
END:DAYLIGHT
BEGIN:STANDARD
TZOFFSETFROM:-0400
TZOFFSETTO:-0500
TZNAME:EST
DTSTART:20241103T060000
END:STANDARD
END:VTIMEZONE
BEGIN:VEVENT
DTSTART;TZID=America/New_York:20230316T100000
DTEND;TZID=America/New_York:20230316T113000
DTSTAMP:20260420T164646
CREATED:20230302T170528Z
LAST-MODIFIED:20230302T170625Z
UID:51461-1678960800-1678966200@bayweekly.com
SUMMARY:Preschool Open House
DESCRIPTION:You are invited an Open House on Thursday\, March 16th 10am-11:30am. This will be a time for prospective families to meet the director\, tour our facility\, and Q&A time for us to questions might have about our school program. Children will have time to explore our playground with their parents and engage in fun hands-on activities in a classroom environment.\nRefreshments for children and coffee for adults will be served.\nFor more information: Call us 410-263-6680 or email us at Vickie@HeritageLOVES.com
URL:https://bayweekly.com/event/preschool-open-house/
LOCATION:Heritage Learning Center\, 1740 Forest Drive\, Annapolis\, 21401
CATEGORIES:children
ATTACH;FMTTYPE=image/png:https://bayweekly.com/wp-content/uploads/2023/03/HLC-Square-logo.png
ORGANIZER;CN="Heritage Learning Center":MAILTO:vickie@heritageloves.com
END:VEVENT
END:VCALENDAR