BEGIN:VCALENDAR
VERSION:2.0
PRODID:-//Bay Weekly - ECPv6.15.17.1//NONSGML v1.0//EN
CALSCALE:GREGORIAN
METHOD:PUBLISH
X-WR-CALNAME:Bay Weekly
X-ORIGINAL-URL:https://bayweekly.com
X-WR-CALDESC:Events for Bay Weekly
REFRESH-INTERVAL;VALUE=DURATION:PT1H
X-Robots-Tag:noindex
X-PUBLISHED-TTL:PT1H
BEGIN:VTIMEZONE
TZID:America/New_York
BEGIN:DAYLIGHT
TZOFFSETFROM:-0500
TZOFFSETTO:-0400
TZNAME:EDT
DTSTART:20220313T070000
END:DAYLIGHT
BEGIN:STANDARD
TZOFFSETFROM:-0400
TZOFFSETTO:-0500
TZNAME:EST
DTSTART:20221106T060000
END:STANDARD
BEGIN:DAYLIGHT
TZOFFSETFROM:-0500
TZOFFSETTO:-0400
TZNAME:EDT
DTSTART:20230312T070000
END:DAYLIGHT
BEGIN:STANDARD
TZOFFSETFROM:-0400
TZOFFSETTO:-0500
TZNAME:EST
DTSTART:20231105T060000
END:STANDARD
BEGIN:DAYLIGHT
TZOFFSETFROM:-0500
TZOFFSETTO:-0400
TZNAME:EDT
DTSTART:20240310T070000
END:DAYLIGHT
BEGIN:STANDARD
TZOFFSETFROM:-0400
TZOFFSETTO:-0500
TZNAME:EST
DTSTART:20241103T060000
END:STANDARD
END:VTIMEZONE
BEGIN:VEVENT
DTSTART;TZID=America/New_York:20231202T090000
DTEND;TZID=America/New_York:20231202T150000
DTSTAMP:20260421T011612
CREATED:20230124T004904Z
LAST-MODIFIED:20230124T022611Z
UID:50737-1701507600-1701529200@bayweekly.com
SUMMARY:Glen Burnie High School Winter Craft Fair
DESCRIPTION:Get your holiday shopping done at the 40th annual Glen Burnie High School Winter Craft Fair benefiting the GBHS Band Boosters. Join us as over 140 crafters display their unique arts and crafts.  Shop for one of a kind wood crafts\, soap and body products\, candles\, home goods\, jewelry\, glassware\, holiday decorations\, dog treats\, candy and many more handmade items. Lunch and snacks are available. Admission is free. We hope to see you there!
URL:https://bayweekly.com/event/glen-burnie-high-school-winter-craft-fair-3/
LOCATION:Glen Burnie High School\, 7550 Baltimore Annapolis Blvd\, Glen Burnie\, 21060
CATEGORIES:art,Christmas,fundraiser
ATTACH;FMTTYPE=image/jpeg:https://bayweekly.com/wp-content/uploads/2023/01/Resized_Resized_20220319_085106-2.jpeg
ORGANIZER;CN="Glen Burnie High School Band Parents Assoc":MAILTO:gbhscraftfair@hotmail.com
END:VEVENT
BEGIN:VEVENT
DTSTART;VALUE=DATE:20231208
DTEND;VALUE=DATE:20231211
DTSTAMP:20260421T011612
CREATED:20230216T192022Z
LAST-MODIFIED:20230216T193741Z
UID:51260-1701993600-1702252799@bayweekly.com
SUMMARY:37th Annual Christmas in St. Michaels
DESCRIPTION:Christmas in St. Michaels is celebrating its 37th year of fundraising festivities with the return and expansion of its weekend of holiday events taking place on the water and in the heart of historic St. Michaels\, Md. this Dec 8-10. This year’s events include a Lighted Boat Parade and festive Talbot Street Parade; a Tour of Homes; Breakfast with Santa; Holiday Music and Meals; a Santa Dash; a Marketplace and Sweet Shoppe\, and a charming\, historic\, waterfront and businesses all decked out for your holiday enjoyment. Don’t miss your limited edition Christmas in St. Michaels collectible ornament while you’re in town or be sure to order online.
URL:https://bayweekly.com/event/37th-annual-christmas-in-st-michaels/
LOCATION:St. Michaels MD
CATEGORIES:Christmas
ATTACH;FMTTYPE=image/jpeg:https://bayweekly.com/wp-content/uploads/2023/02/ChristmasinStMichaelsParade23-1.jpg
ORGANIZER;CN="Christmas in St. Michaels":MAILTO:info@christmasinstmichaels.org
END:VEVENT
END:VCALENDAR