BEGIN:VCALENDAR
VERSION:2.0
PRODID:-//Bay Weekly - ECPv6.15.17.1//NONSGML v1.0//EN
CALSCALE:GREGORIAN
METHOD:PUBLISH
X-WR-CALNAME:Bay Weekly
X-ORIGINAL-URL:https://bayweekly.com
X-WR-CALDESC:Events for Bay Weekly
REFRESH-INTERVAL;VALUE=DURATION:PT1H
X-Robots-Tag:noindex
X-PUBLISHED-TTL:PT1H
BEGIN:VTIMEZONE
TZID:America/New_York
BEGIN:DAYLIGHT
TZOFFSETFROM:-0500
TZOFFSETTO:-0400
TZNAME:EDT
DTSTART:20220313T070000
END:DAYLIGHT
BEGIN:STANDARD
TZOFFSETFROM:-0400
TZOFFSETTO:-0500
TZNAME:EST
DTSTART:20221106T060000
END:STANDARD
BEGIN:DAYLIGHT
TZOFFSETFROM:-0500
TZOFFSETTO:-0400
TZNAME:EDT
DTSTART:20230312T070000
END:DAYLIGHT
BEGIN:STANDARD
TZOFFSETFROM:-0400
TZOFFSETTO:-0500
TZNAME:EST
DTSTART:20231105T060000
END:STANDARD
BEGIN:DAYLIGHT
TZOFFSETFROM:-0500
TZOFFSETTO:-0400
TZNAME:EDT
DTSTART:20240310T070000
END:DAYLIGHT
BEGIN:STANDARD
TZOFFSETFROM:-0400
TZOFFSETTO:-0500
TZNAME:EST
DTSTART:20241103T060000
END:STANDARD
END:VTIMEZONE
BEGIN:VEVENT
DTSTART;TZID=America/New_York:20230710T183000
DTEND;TZID=America/New_York:20230710T203000
DTSTAMP:20260422T054656
CREATED:20230628T171801Z
LAST-MODIFIED:20230628T172006Z
UID:53608-1689013800-1689021000@bayweekly.com
SUMMARY:PAX RIVER QUILTERS GUILD MEETING
DESCRIPTION:Pax River Quilters Guild will host its monthly meeting starting at 6:30pm at Good Samaritan Lutheran Church located at 20850 Langley Road in Lexington Park\, MD on Monday\, July 10th. Meetings are the second Monday of every month and feature guest speakers\, show and tells\, and other fun activities. Pax River Quilters Guild is a non-profit organization devoted to philanthropic quilting projects and promoting the skill of quilting. New members of all skill levels are welcome. For questions\, email: prqgsomd@gmail.com
URL:https://bayweekly.com/event/pax-river-quilters-guild-meeting/
LOCATION:Good Samaritan Lutheran Church\, 20850 Langley Rd\, Lexington\, 20850\, United Arab Emirates
CATEGORIES:clubs
ORGANIZER;CN="Pax River Quilters Guild":MAILTO:prqgsomd@gmail.com
END:VEVENT
BEGIN:VEVENT
DTSTART;TZID=America/New_York:20230710T183000
DTEND;TZID=America/New_York:20230710T203000
DTSTAMP:20260422T054656
CREATED:20230628T171815Z
LAST-MODIFIED:20230628T172044Z
UID:53611-1689013800-1689021000@bayweekly.com
SUMMARY:PAX RIVER QUILTERS GUILD MEETING
DESCRIPTION:Pax River Quilters Guild will host its monthly meeting starting at 6:30pm at Good Samaritan Lutheran Church located at 20850 Langley Road in Lexington Park\, MD on Monday\, July 10th.  Meetings are the second Monday of every month and feature guest speakers\, show and tells\, and other fun activities. Pax River Quilters Guild is a non-profit organization devoted to philanthropic quilting projects and promoting the skill of quilting. New members of all skill levels are welcome. For questions\, email:  prqgsomd@gmail.com
URL:https://bayweekly.com/event/pax-river-quilters-guild-meeting-2/
LOCATION:Good Samaritan Lutheran Church\, 20850 Langley Rd\, Lexington\, 20850\, United Arab Emirates
CATEGORIES:clubs
END:VEVENT
BEGIN:VEVENT
DTSTART;TZID=America/New_York:20230710T183000
DTEND;TZID=America/New_York:20230710T203000
DTSTAMP:20260422T054656
CREATED:20230628T171816Z
LAST-MODIFIED:20230628T172045Z
UID:53612-1689013800-1689021000@bayweekly.com
SUMMARY:PAX RIVER QUILTERS GUILD MEETING
DESCRIPTION:Pax River Quilters Guild will host its monthly meeting starting at 6:30pm at Good Samaritan Lutheran Church located at 20850 Langley Road in Lexington Park\, MD on Monday\, July 10th.  Meetings are the second Monday of every month and feature guest speakers\, show and tells\, and other fun activities. Pax River Quilters Guild is a non-profit organization devoted to philanthropic quilting projects and promoting the skill of quilting. New members of all skill levels are welcome. For questions\, email:  prqgsomd@gmail.com
URL:https://bayweekly.com/event/pax-river-quilters-guild-meeting-3/
LOCATION:Good Samaritan Lutheran Church\, 20850 Langley Rd\, Lexington\, 20850\, United Arab Emirates
CATEGORIES:clubs
END:VEVENT
END:VCALENDAR