BEGIN:VCALENDAR
VERSION:2.0
PRODID:-//Bay Weekly - ECPv6.15.17.1//NONSGML v1.0//EN
CALSCALE:GREGORIAN
METHOD:PUBLISH
X-WR-CALNAME:Bay Weekly
X-ORIGINAL-URL:https://bayweekly.com
X-WR-CALDESC:Events for Bay Weekly
REFRESH-INTERVAL;VALUE=DURATION:PT1H
X-Robots-Tag:noindex
X-PUBLISHED-TTL:PT1H
BEGIN:VTIMEZONE
TZID:America/New_York
BEGIN:DAYLIGHT
TZOFFSETFROM:-0500
TZOFFSETTO:-0400
TZNAME:EDT
DTSTART:20220313T070000
END:DAYLIGHT
BEGIN:STANDARD
TZOFFSETFROM:-0400
TZOFFSETTO:-0500
TZNAME:EST
DTSTART:20221106T060000
END:STANDARD
BEGIN:DAYLIGHT
TZOFFSETFROM:-0500
TZOFFSETTO:-0400
TZNAME:EDT
DTSTART:20230312T070000
END:DAYLIGHT
BEGIN:STANDARD
TZOFFSETFROM:-0400
TZOFFSETTO:-0500
TZNAME:EST
DTSTART:20231105T060000
END:STANDARD
BEGIN:DAYLIGHT
TZOFFSETFROM:-0500
TZOFFSETTO:-0400
TZNAME:EDT
DTSTART:20240310T070000
END:DAYLIGHT
BEGIN:STANDARD
TZOFFSETFROM:-0400
TZOFFSETTO:-0500
TZNAME:EST
DTSTART:20241103T060000
END:STANDARD
END:VTIMEZONE
BEGIN:VEVENT
DTSTART;TZID=America/New_York:20230812T110000
DTEND;TZID=America/New_York:20230812T150000
DTSTAMP:20260419T112709
CREATED:20230804T151822Z
LAST-MODIFIED:20230804T155838Z
UID:54115-1691838000-1691852400@bayweekly.com
SUMMARY:Hogshead Living History: Libraries and Lotteries\, 1773
DESCRIPTION:Explore the history of libraries and lotteries at Hogshead! Learn what libraries were like in colonial Annapolis as we bring to life Annapolis’s first “public” library. Meet a colonial businesswoman\, try reading original 18th century books\, and discover popular titles of the colonial era that our libraries still carry today! \nInfrastructure has always been in the news! How did colonial Marylanders fund projects like roads? Come learn about the roles that lotteries played in colonial American life\, from improving roads to funding the American Revolution itself. Participants have a chance to win a small prize in our “lottery” drawings at 11 am and 1 pm!
URL:https://bayweekly.com/event/pax-river-quilt-guild-meeting-2/
LOCATION:Hogshead\, 43 Pinkney Street\, Annapolis\, 21401
CATEGORIES:children,clubs
ATTACH;FMTTYPE=image/png:https://bayweekly.com/wp-content/uploads/2023/08/FB-Event-Cover-25.png
ORGANIZER;CN="Historic Annapolis%2C Inc.":MAILTO:info@annapolis.rog
END:VEVENT
END:VCALENDAR