BEGIN:VCALENDAR
VERSION:2.0
PRODID:-//Bay Weekly - ECPv6.15.17.1//NONSGML v1.0//EN
CALSCALE:GREGORIAN
METHOD:PUBLISH
X-ORIGINAL-URL:https://bayweekly.com
X-WR-CALDESC:Events for Bay Weekly
REFRESH-INTERVAL;VALUE=DURATION:PT1H
X-Robots-Tag:noindex
X-PUBLISHED-TTL:PT1H
BEGIN:VTIMEZONE
TZID:America/New_York
BEGIN:DAYLIGHT
TZOFFSETFROM:-0500
TZOFFSETTO:-0400
TZNAME:EDT
DTSTART:20200308T070000
END:DAYLIGHT
BEGIN:STANDARD
TZOFFSETFROM:-0400
TZOFFSETTO:-0500
TZNAME:EST
DTSTART:20201101T060000
END:STANDARD
BEGIN:DAYLIGHT
TZOFFSETFROM:-0500
TZOFFSETTO:-0400
TZNAME:EDT
DTSTART:20210314T070000
END:DAYLIGHT
BEGIN:STANDARD
TZOFFSETFROM:-0400
TZOFFSETTO:-0500
TZNAME:EST
DTSTART:20211107T060000
END:STANDARD
BEGIN:DAYLIGHT
TZOFFSETFROM:-0500
TZOFFSETTO:-0400
TZNAME:EDT
DTSTART:20220313T070000
END:DAYLIGHT
BEGIN:STANDARD
TZOFFSETFROM:-0400
TZOFFSETTO:-0500
TZNAME:EST
DTSTART:20221106T060000
END:STANDARD
BEGIN:DAYLIGHT
TZOFFSETFROM:-0500
TZOFFSETTO:-0400
TZNAME:EDT
DTSTART:20230312T070000
END:DAYLIGHT
BEGIN:STANDARD
TZOFFSETFROM:-0400
TZOFFSETTO:-0500
TZNAME:EST
DTSTART:20231105T060000
END:STANDARD
END:VTIMEZONE
BEGIN:VEVENT
DTSTART;TZID=America/New_York:20220227T140000
DTEND;TZID=America/New_York:20220227T163000
DTSTAMP:20260420T004655
CREATED:20220208T044122Z
LAST-MODIFIED:20220208T113000Z
UID:36977-1645970400-1645979400@bayweekly.com
SUMMARY:The Lost Boy
DESCRIPTION:This heartwarming\, fictionalized story follows author James Barrie and the forces that drove the creation of his many beloved characters. Haunted by the tragic loss of his older brother\, James slowly begins to confront his family’s tragic past through storytelling\, an unexpected friendship\, and the dream of finding Neverland.\nShow Times\n8:00 p.m. Thursday\, Friday\, Saturday\n2:00 p.m. Sunday matinees
URL:https://bayweekly.com/event/the-lost-boy-3-2022-02-27/
LOCATION:the Colonial Players\, 108 East Street\, Annapolis\, 21401
CATEGORIES:Events,Summer Concert
ATTACH;FMTTYPE=image/png:https://bayweekly.com/wp-content/uploads/2022/02/MD-TG-LB-Take2.png
ORGANIZER;CN="The Colonial Players":MAILTO:info@thecolonialplayers.org
END:VEVENT
BEGIN:VEVENT
DTSTART;TZID=America/New_York:20220226T200000
DTEND;TZID=America/New_York:20220226T223000
DTSTAMP:20260420T004655
CREATED:20220208T044122Z
LAST-MODIFIED:20220208T113000Z
UID:36976-1645905600-1645914600@bayweekly.com
SUMMARY:The Lost Boy
DESCRIPTION:This heartwarming\, fictionalized story follows author James Barrie and the forces that drove the creation of his many beloved characters. Haunted by the tragic loss of his older brother\, James slowly begins to confront his family’s tragic past through storytelling\, an unexpected friendship\, and the dream of finding Neverland.\nShow Times\n8:00 p.m. Thursday\, Friday\, Saturday\n2:00 p.m. Sunday matinees
URL:https://bayweekly.com/event/the-lost-boy-3-2022-02-26/
LOCATION:the Colonial Players\, 108 East Street\, Annapolis\, 21401
CATEGORIES:Events,Summer Concert
ATTACH;FMTTYPE=image/png:https://bayweekly.com/wp-content/uploads/2022/02/MD-TG-LB-Take2.png
ORGANIZER;CN="The Colonial Players":MAILTO:info@thecolonialplayers.org
END:VEVENT
BEGIN:VEVENT
DTSTART;TZID=America/New_York:20220225T200000
DTEND;TZID=America/New_York:20220225T223000
DTSTAMP:20260420T004655
CREATED:20220208T044122Z
LAST-MODIFIED:20220208T113000Z
UID:36975-1645819200-1645828200@bayweekly.com
SUMMARY:The Lost Boy
DESCRIPTION:This heartwarming\, fictionalized story follows author James Barrie and the forces that drove the creation of his many beloved characters. Haunted by the tragic loss of his older brother\, James slowly begins to confront his family’s tragic past through storytelling\, an unexpected friendship\, and the dream of finding Neverland.\nShow Times\n8:00 p.m. Thursday\, Friday\, Saturday\n2:00 p.m. Sunday matinees
URL:https://bayweekly.com/event/the-lost-boy-3-2022-02-25/
LOCATION:the Colonial Players\, 108 East Street\, Annapolis\, 21401
CATEGORIES:Events,Summer Concert
ATTACH;FMTTYPE=image/png:https://bayweekly.com/wp-content/uploads/2022/02/MD-TG-LB-Take2.png
ORGANIZER;CN="The Colonial Players":MAILTO:info@thecolonialplayers.org
END:VEVENT
BEGIN:VEVENT
DTSTART;TZID=America/New_York:20220224T200000
DTEND;TZID=America/New_York:20220224T223000
DTSTAMP:20260420T004655
CREATED:20220208T044122Z
LAST-MODIFIED:20220208T113000Z
UID:36974-1645732800-1645741800@bayweekly.com
SUMMARY:The Lost Boy
DESCRIPTION:This heartwarming\, fictionalized story follows author James Barrie and the forces that drove the creation of his many beloved characters. Haunted by the tragic loss of his older brother\, James slowly begins to confront his family’s tragic past through storytelling\, an unexpected friendship\, and the dream of finding Neverland.\nShow Times\n8:00 p.m. Thursday\, Friday\, Saturday\n2:00 p.m. Sunday matinees
URL:https://bayweekly.com/event/the-lost-boy-3-2022-02-24/
LOCATION:the Colonial Players\, 108 East Street\, Annapolis\, 21401
CATEGORIES:Events,Summer Concert
ATTACH;FMTTYPE=image/png:https://bayweekly.com/wp-content/uploads/2022/02/MD-TG-LB-Take2.png
ORGANIZER;CN="The Colonial Players":MAILTO:info@thecolonialplayers.org
END:VEVENT
BEGIN:VEVENT
DTSTART;TZID=America/New_York:20220220T140000
DTEND;TZID=America/New_York:20220220T163000
DTSTAMP:20260420T004655
CREATED:20220208T044122Z
LAST-MODIFIED:20220208T112959Z
UID:36973-1645365600-1645374600@bayweekly.com
SUMMARY:The Lost Boy
DESCRIPTION:This heartwarming\, fictionalized story follows author James Barrie and the forces that drove the creation of his many beloved characters. Haunted by the tragic loss of his older brother\, James slowly begins to confront his family’s tragic past through storytelling\, an unexpected friendship\, and the dream of finding Neverland.\nShow Times\n8:00 p.m. Thursday\, Friday\, Saturday\n2:00 p.m. Sunday matinees
URL:https://bayweekly.com/event/the-lost-boy-3-2022-02-20/
LOCATION:the Colonial Players\, 108 East Street\, Annapolis\, 21401
CATEGORIES:Events,Summer Concert
ATTACH;FMTTYPE=image/png:https://bayweekly.com/wp-content/uploads/2022/02/MD-TG-LB-Take2.png
ORGANIZER;CN="The Colonial Players":MAILTO:info@thecolonialplayers.org
END:VEVENT
BEGIN:VEVENT
DTSTART;TZID=America/New_York:20220219T200000
DTEND;TZID=America/New_York:20220219T223000
DTSTAMP:20260420T004655
CREATED:20220208T044122Z
LAST-MODIFIED:20220208T112959Z
UID:36972-1645300800-1645309800@bayweekly.com
SUMMARY:The Lost Boy
DESCRIPTION:This heartwarming\, fictionalized story follows author James Barrie and the forces that drove the creation of his many beloved characters. Haunted by the tragic loss of his older brother\, James slowly begins to confront his family’s tragic past through storytelling\, an unexpected friendship\, and the dream of finding Neverland.\nShow Times\n8:00 p.m. Thursday\, Friday\, Saturday\n2:00 p.m. Sunday matinees
URL:https://bayweekly.com/event/the-lost-boy-3-2022-02-19/
LOCATION:the Colonial Players\, 108 East Street\, Annapolis\, 21401
CATEGORIES:Events,Summer Concert
ATTACH;FMTTYPE=image/png:https://bayweekly.com/wp-content/uploads/2022/02/MD-TG-LB-Take2.png
ORGANIZER;CN="The Colonial Players":MAILTO:info@thecolonialplayers.org
END:VEVENT
BEGIN:VEVENT
DTSTART;TZID=America/New_York:20220218T200000
DTEND;TZID=America/New_York:20220218T223000
DTSTAMP:20260420T004655
CREATED:20220208T044122Z
LAST-MODIFIED:20220208T112959Z
UID:36971-1645214400-1645223400@bayweekly.com
SUMMARY:The Lost Boy
DESCRIPTION:This heartwarming\, fictionalized story follows author James Barrie and the forces that drove the creation of his many beloved characters. Haunted by the tragic loss of his older brother\, James slowly begins to confront his family’s tragic past through storytelling\, an unexpected friendship\, and the dream of finding Neverland.\nShow Times\n8:00 p.m. Thursday\, Friday\, Saturday\n2:00 p.m. Sunday matinees
URL:https://bayweekly.com/event/the-lost-boy-3-2022-02-18/
LOCATION:the Colonial Players\, 108 East Street\, Annapolis\, 21401
CATEGORIES:Events,Summer Concert
ATTACH;FMTTYPE=image/png:https://bayweekly.com/wp-content/uploads/2022/02/MD-TG-LB-Take2.png
ORGANIZER;CN="The Colonial Players":MAILTO:info@thecolonialplayers.org
END:VEVENT
BEGIN:VEVENT
DTSTART;TZID=America/New_York:20220217T200000
DTEND;TZID=America/New_York:20220217T223000
DTSTAMP:20260420T004655
CREATED:20220208T044122Z
LAST-MODIFIED:20220208T112958Z
UID:36970-1645128000-1645137000@bayweekly.com
SUMMARY:The Lost Boy
DESCRIPTION:This heartwarming\, fictionalized story follows author James Barrie and the forces that drove the creation of his many beloved characters. Haunted by the tragic loss of his older brother\, James slowly begins to confront his family’s tragic past through storytelling\, an unexpected friendship\, and the dream of finding Neverland.\nShow Times\n8:00 p.m. Thursday\, Friday\, Saturday\n2:00 p.m. Sunday matinees
URL:https://bayweekly.com/event/the-lost-boy-3/
LOCATION:the Colonial Players\, 108 East Street\, Annapolis\, 21401
CATEGORIES:Events,Summer Concert
ATTACH;FMTTYPE=image/png:https://bayweekly.com/wp-content/uploads/2022/02/MD-TG-LB-Take2.png
ORGANIZER;CN="The Colonial Players":MAILTO:info@thecolonialplayers.org
END:VEVENT
BEGIN:VEVENT
DTSTART;TZID=America/New_York:20211114T150000
DTEND;TZID=America/New_York:20211114T170000
DTSTAMP:20260420T004655
CREATED:20211030T221233Z
LAST-MODIFIED:20211030T225251Z
UID:34063-1636902000-1636909200@bayweekly.com
SUMMARY:Make 'Em Laugh
DESCRIPTION:The Arundel Vocal Arts Society will be performing a program of lighthearted and fun choral pieces that are sure to bring a smile to your face. AVAS will perform classic comedic pieces such as “Hello Muddah\, Hello Fadduh” \, “Lydia the Tattooed Lady”\, “Comedy Tonight”\, and audience participation “On Top of Spaghetti”. We’ll even serve up some “Coffee in a Cardboard Cup” and “Taylor\, the Latte Boy”. It’s Laughter set to music — what could be better? Come join us! \nThis concert is free of charge to students.
URL:https://bayweekly.com/event/make-em-laugh/
LOCATION:Gloria Dei Lutheran Church\, 461 College Parkway\, Arnold MD\, 21012
CATEGORIES:Events,Summer Concert
ATTACH;FMTTYPE=image/png:https://bayweekly.com/wp-content/uploads/2021/10/AVAS-Logo_Option_Full-color.png
ORGANIZER;CN="Arundel Vocal Arts Society":MAILTO:arundelvocalartssociety@gmail.com
END:VEVENT
BEGIN:VEVENT
DTSTART;TZID=America/New_York:20211015T180000
DTEND;TZID=America/New_York:20211016T210000
DTSTAMP:20260420T004655
CREATED:20210927T205023Z
LAST-MODIFIED:20210927T220135Z
UID:33442-1634320800-1634418000@bayweekly.com
SUMMARY:UpRooted Dance Presents: The Ascension Project
DESCRIPTION:MC3 is excited to bring more Modern dance to Annapolis this Fall! We challenge you to open your minds and experience something new with us. \nThe Ascension Project by UpRooted Dance\, set to Sufjan Steven’s Ascension Album\, is an indie-rock dance opera offering audiences the chance to reflect on the events of the past year and the world we now live in through the lens of dance\, music\, and art. \nExploring ’20/20′ vision\, The Ascension Project will take audiences through an emotional trajectory through space and time. The work explores isolation in small spaces\, anxiety\, disability\, trauma and loss\, and finally ends with transcendence. \nThe performances at MC3 will also include a collaborative guest work created by Keira Hart-Mendoza\, Katie Harris Banks\, and feature live taiko drumming by Mark H Taiko.
URL:https://bayweekly.com/event/uprooted-dance-presents-the-ascension-project/
LOCATION:maryland cultural and conference center\, 3 Park Place\, Annapolis\, 21401
CATEGORIES:Art Gallery Show,Events,Events,Summer Concert
ATTACH;FMTTYPE=image/jpeg:https://bayweekly.com/wp-content/uploads/2021/09/MC3-Postcard.jpg
ORGANIZER;CN="Maryland Cultural &amp%3Bamp%3B Conference Center":MAILTO:mattie.fenton@mc3annapolis.org
END:VEVENT
BEGIN:VEVENT
DTSTART;TZID=America/New_York:20211009T140000
DTEND;TZID=America/New_York:20211009T220000
DTSTAMP:20260420T004655
CREATED:20211004T151549Z
LAST-MODIFIED:20211004T154727Z
UID:33564-1633788000-1633816800@bayweekly.com
SUMMARY:Oktoberfest on West
DESCRIPTION:throw on your favorite flannel and come down to the first block of West street for family fun. Kids games with prizes\, pumpkin decorating for kids\, ghost walk prizes from the businesses on West street.
URL:https://bayweekly.com/event/oktoberfest-on-west/
LOCATION:Gallery 57 West\, 57 West Street\, Annapolis\, 21401
CATEGORIES:Art Gallery Show,Events,Events,Summer Concert
ATTACH;FMTTYPE=image/jpeg:https://bayweekly.com/wp-content/uploads/2021/10/oktoberfest-on-West1.jpg
ORGANIZER;CN="Annapolis Arts Alliance":MAILTO:chesapeakepics@gmail.com
END:VEVENT
BEGIN:VEVENT
DTSTART;TZID=America/New_York:20211008T210000
DTEND;TZID=America/New_York:20211009T010000
DTSTAMP:20260420T004655
CREATED:20210929T161607Z
LAST-MODIFIED:20210929T161843Z
UID:33464-1633726800-1633741200@bayweekly.com
SUMMARY:Mike Numera and His Rhythm Handlers LIVE at Stan & Joe's
DESCRIPTION:Current and Former Rhythm Handlers perform LIVE to celebrate their 20th Anniversary. Special Guest: Sydney Smith.
URL:https://bayweekly.com/event/mike-numera-and-his-rhythm-handlers-live-at-stan-joes/
LOCATION:Stan &amp; Joe’s\, 37 West Street\, Annapolis\, 21401
CATEGORIES:Events,Summer Concert
ATTACH;FMTTYPE=image/png:https://bayweekly.com/wp-content/uploads/2021/09/Poster-w-Sydney.png
END:VEVENT
BEGIN:VEVENT
DTSTART;TZID=America/New_York:20211008T180000
DTEND;TZID=America/New_York:20211008T200000
DTSTAMP:20260420T004655
CREATED:20210917T171727Z
LAST-MODIFIED:20210917T181404Z
UID:33128-1633716000-1633723200@bayweekly.com
SUMMARY:Tony Spencer w/ The Sunset Band: Jazz & R&B Concert in Annapolis
DESCRIPTION:An outdoor Concert Series hosted by MC3 & BayWeekly in Annapolis! \nAbout this event\nGrab your beach chairs\, umbrellas\, blankets and kick-back while enjoying LIVE outdoor performances again at MC3’s outdoor venue StageOne. \nFor the final performance of the series\, enjoy traditional and contemporary jazz and r & b with Tony Spencer and The Sunset Band. \nFood and drinks from multiple on-site vendors will be available including the famous Annapolis Tiki bar! Guests will not be permitted to bring their own food or alcohol into the venue. \nDoors open at 5:30 PM and the concert begins at 6:00 PM. \nAll proceeds will benefit MC3: The Maryland Cultural & Conference; a non-profit arts organization dedicated to providing equitable access to innovative and dynamic arts programming to the Greater Annapolis region.
URL:https://bayweekly.com/event/tony-spencer-w-the-sunset-band-jazz-rb-concert-in-annapolis/
LOCATION:maryland cultural and conference center\, 3 Park Place\, Annapolis\, 21401
CATEGORIES:Events,Summer Concert
ATTACH;FMTTYPE=image/png:https://bayweekly.com/wp-content/uploads/2021/09/Copy-of-Summer-Concert-Series-2.png
ORGANIZER;CN="Maryland Cultural &amp%3Bamp%3B Conference Center":MAILTO:mattie.fenton@mc3annapolis.org
END:VEVENT
BEGIN:VEVENT
DTSTART;TZID=America/New_York:20210925T170000
DTEND;TZID=America/New_York:20210925T220000
DTSTAMP:20260420T004655
CREATED:20210917T013244Z
LAST-MODIFIED:20210917T015855Z
UID:33117-1632589200-1632607200@bayweekly.com
SUMMARY:Rotary Club of Annapolis' Diamond Jubilee Celebration
DESCRIPTION:Join us for a night of food\, drink\, dancing & celebration to honor 100 Years of Rotary’s work in Annapolis!\nSaturday\, September 25\, 2021\n5 – 10pm\nDinner Buffet * Open Bar * Waterfront * Tented and Outdoors\nLive Band * Dancing Under the Stars\nPremium Bourbon and Vodka Tastings * Cigars\nIn the Garden of the Charles Carroll House on Spa Creek\nDuke of Gloucester Street\, Annapolis\nFor pricing information and to puchase tickets\, visit https://www.annapolisrotary.org/
URL:https://bayweekly.com/event/rotary-club-of-annapolis-diamond-jubilee-celebration/
LOCATION:Charles Carroll House\, 107 Duke of Gloucester St.\, Annapolis\, 21401
CATEGORIES:Events,Summer Concert
ATTACH;FMTTYPE=image/jpeg:https://bayweekly.com/wp-content/uploads/2021/09/diamond-jubilee.jpg
ORGANIZER;CN="Rotary Club of Annapolis":MAILTO:frankandracchi@gmail.com
END:VEVENT
BEGIN:VEVENT
DTSTART;TZID=America/New_York:20210915T180000
DTEND;TZID=America/New_York:20210915T210000
DTSTAMP:20260420T004655
CREATED:20210812T205700Z
LAST-MODIFIED:20210819T222038Z
UID:31818-1631728800-1631739600@bayweekly.com
SUMMARY:Summer Music Cruise
DESCRIPTION:Enjoy a fun\, 3-hour\, live music cruise hosted in partnership with Pirate Island Events. On August 19th in Annapolis\, the Chris Sacks Band will play its mixture of red-blooded American music and the blue seawaters of the Caribbean. On September 15th in Baltimore\, the Caribbean Vibe Steel Drum Band will play its “music from the islands.” Beverages and snacks will be available for purchase from our full bar
URL:https://bayweekly.com/event/summer-music-cruise/
LOCATION:Baltimore Finger Piers\, 555 Light St\, Baltimore\, 21202
CATEGORIES:Events,Summer Concert
ATTACH;FMTTYPE=image/png:https://bayweekly.com/wp-content/uploads/2021/08/annapolis-live-music-cruise-1-e1627923895683-684x453-1.png
END:VEVENT
BEGIN:VEVENT
DTSTART;TZID=America/New_York:20210904T173000
DTEND;TZID=America/New_York:20210904T190000
DTSTAMP:20260420T004655
CREATED:20210806T173327Z
LAST-MODIFIED:20210806T173327Z
UID:31533-1630776600-1630782000@bayweekly.com
SUMMARY:Summer Concert – Annapolis Symphony Orchestra
DESCRIPTION:Annapolis Symphony Orchestra\nThe mission of the Annapolis Symphony Orchestra is to produce\, present and promote memorable symphonic music that increases awareness\, enjoyment\, and appreciation of music for all ages throughout the region.\n 
URL:https://bayweekly.com/event/summer-concert-annapolis-symphony-orchestra/
CATEGORIES:Events,Summer Concert
END:VEVENT
BEGIN:VEVENT
DTSTART;TZID=America/New_York:20210828T173000
DTEND;TZID=America/New_York:20210828T193000
DTSTAMP:20260420T004655
CREATED:20210806T173327Z
LAST-MODIFIED:20210806T173327Z
UID:31531-1630171800-1630179000@bayweekly.com
SUMMARY:Summer Concert – Kelly Bell Band
DESCRIPTION:Kelly Bell Band\nThe Kelly Bell Band is exactly the kind of genre-bending\, rule-breaking\, and color-smearing group the music scene of 2020 desperately needs. The Kelly Bell Band lives outside of all the lines and freely mixes blues\, funk\, rock\, metal\, hip-hop\, and more into a compelling fusion of musical styles.\n \n \nA special thanks to our Summer Concert Series Sponsors
URL:https://bayweekly.com/event/summer-concert-kelly-bell-band/
CATEGORIES:Events,Summer Concert
END:VEVENT
BEGIN:VEVENT
DTSTART;TZID=America/New_York:20210821T173000
DTEND;TZID=America/New_York:20210821T183000
DTSTAMP:20260420T004655
CREATED:20210806T173326Z
LAST-MODIFIED:20210806T173326Z
UID:31530-1629567000-1629570600@bayweekly.com
SUMMARY:Summer Concert – Assisted Living
DESCRIPTION:Assisted Living\nDon’t let the name of our band fool you!  The Assisted Living Band is not only a group of talented musicians\, but a family!  As members of the Maryland Entertainment Hall of Fame\, the ALB officially started playing together in 2010\, but we have known each other for a good number of years.  Each member boasts 40+ years of music experience\, but more importantly we have an enormous love of music! Enjoy the classic sound of the Oldies of the “50’s\, 60’s and 70s”.\nA special thanks to our Summer Concert Series Sponsors
URL:https://bayweekly.com/event/summer-concert-assisted-living/
CATEGORIES:Events,Summer Concert
END:VEVENT
BEGIN:VEVENT
DTSTART;TZID=America/New_York:20210814T180000
DTEND;TZID=America/New_York:20210814T200000
DTSTAMP:20260420T004655
CREATED:20210806T173326Z
LAST-MODIFIED:20210806T173326Z
UID:31529-1628964000-1628971200@bayweekly.com
SUMMARY:Summer Concert – Sweet Leda
DESCRIPTION:Sweet Leda\nPowered by Julie Cymek’s sultry\, commanding vocals and electrifying stage presence\, Sweet Leda knows how to get the party started! In fact\, Lou Plaia (co-founder of Reverbnation) describes them as “the highlight of every festival they play.” With its rich blend of new school funk\, psychedelic rock\, soul and pop\, Sweet Leda’s heartfelt original music can best be described as a female-fronted\, soul-based\, Zeppelin meets Chili Peppers! \nAmong the band’s many milestone achievements are: four Tri State Indie Music Awards; Best Emerging Artist DC/Baltimore in The Deli Magazine’s reader’s poll; sharing the stage with bands like Galactic\, 311\, and Jefferson Starship; performing at festivals with the likes of Citizen Cope\, G Love\, Cake\, Live\, Lake Street Dive\, and Tedeschi Trucks; multiple song placements in TV and film including the end-credit title track for the feature film Lovely Molly by Ed Sanchez (Blair Witch Project); being hand-picked by Allman Bros. drummer Butch Trucks to open for his band at the Roots Rock Revival Masters Camp; and repeat performances at Summerfest in Milwaukee.Sweet Leda regularly features tenor-saxophonist Ron Holloway who is listed in the Biographical Encyclopedia of Jazz where veteran jazz critic Ira Gitler described Holloway as a “bear-down-hard-bopper who can blow authentic R&B and croon a ballad with warm\, blue feeling.” Holloway has worked with the likes of Susan Tedeschi\, Dizzy Gillespie\, Gil Scott-Heron\, Little Feat\, and Root Boy Slim. He is currently a member of The Warren Haynes Band in addition to fronting the Ron Holloway Band.\n \nA special thanks to our Summer Concert Series Sponsors
URL:https://bayweekly.com/event/summer-concert-sweet-leda/
CATEGORIES:Events,Summer Concert
END:VEVENT
BEGIN:VEVENT
DTSTART;TZID=America/New_York:20210807T180000
DTEND;TZID=America/New_York:20210807T200000
DTSTAMP:20260420T004655
CREATED:20210806T173325Z
LAST-MODIFIED:20210806T173325Z
UID:31528-1628359200-1628366400@bayweekly.com
SUMMARY:Summer Concert – Swamp Donkey
DESCRIPTION:Swamp Donkey\nSwamp donkey is a new grass band.  The full band will be performing at the park.\n \n \n \n \nA special thanks to our Summer Concert Series Sponsors
URL:https://bayweekly.com/event/summer-concert-swamp-donkey/
CATEGORIES:Events,Summer Concert
END:VEVENT
END:VCALENDAR