BEGIN:VCALENDAR
VERSION:2.0
PRODID:-//Bay Weekly - ECPv6.15.17.1//NONSGML v1.0//EN
CALSCALE:GREGORIAN
METHOD:PUBLISH
X-ORIGINAL-URL:https://bayweekly.com
X-WR-CALDESC:Events for Bay Weekly
REFRESH-INTERVAL;VALUE=DURATION:PT1H
X-Robots-Tag:noindex
X-PUBLISHED-TTL:PT1H
BEGIN:VTIMEZONE
TZID:America/New_York
BEGIN:DAYLIGHT
TZOFFSETFROM:-0500
TZOFFSETTO:-0400
TZNAME:EDT
DTSTART:20220313T070000
END:DAYLIGHT
BEGIN:STANDARD
TZOFFSETFROM:-0400
TZOFFSETTO:-0500
TZNAME:EST
DTSTART:20221106T060000
END:STANDARD
BEGIN:DAYLIGHT
TZOFFSETFROM:-0500
TZOFFSETTO:-0400
TZNAME:EDT
DTSTART:20230312T070000
END:DAYLIGHT
BEGIN:STANDARD
TZOFFSETFROM:-0400
TZOFFSETTO:-0500
TZNAME:EST
DTSTART:20231105T060000
END:STANDARD
BEGIN:DAYLIGHT
TZOFFSETFROM:-0500
TZOFFSETTO:-0400
TZNAME:EDT
DTSTART:20240310T070000
END:DAYLIGHT
BEGIN:STANDARD
TZOFFSETFROM:-0400
TZOFFSETTO:-0500
TZNAME:EST
DTSTART:20241103T060000
END:STANDARD
END:VTIMEZONE
BEGIN:VEVENT
DTSTART;TZID=America/New_York:20230515T190000
DTEND;TZID=America/New_York:20230515T210000
DTSTAMP:20260421T020100
CREATED:20230509T195414Z
LAST-MODIFIED:20230509T215104Z
UID:52939-1684177200-1684184400@bayweekly.com
SUMMARY:Digital Photography Club of Annapolis Zoom Meeting
DESCRIPTION:The DPCA is a diverse group of beginners\, hobbyists and professionals who love to take and share photos. Email the club president at president@digitalphotoclub.net for a link to the next Zoom meeting. The speaker for the 15 May 2023 Zoom meeting is Wayne Wolfersberger and the topic is “Nature is Wild.”
URL:https://bayweekly.com/event/digital-photography-club-of-annapolis-zoom-meeting-7/
LOCATION:Virtual
CATEGORIES:photography
ORGANIZER;CN="Digital Photography Club of Annapolis":MAILTO:president@digitalphotoclub.net
END:VEVENT
END:VCALENDAR