BEGIN:VCALENDAR
VERSION:2.0
PRODID:-//Bay Weekly - ECPv6.15.17.1//NONSGML v1.0//EN
CALSCALE:GREGORIAN
METHOD:PUBLISH
X-WR-CALNAME:Bay Weekly
X-ORIGINAL-URL:https://bayweekly.com
X-WR-CALDESC:Events for Bay Weekly
REFRESH-INTERVAL;VALUE=DURATION:PT1H
X-Robots-Tag:noindex
X-PUBLISHED-TTL:PT1H
BEGIN:VTIMEZONE
TZID:America/New_York
BEGIN:DAYLIGHT
TZOFFSETFROM:-0500
TZOFFSETTO:-0400
TZNAME:EDT
DTSTART:20220313T070000
END:DAYLIGHT
BEGIN:STANDARD
TZOFFSETFROM:-0400
TZOFFSETTO:-0500
TZNAME:EST
DTSTART:20221106T060000
END:STANDARD
BEGIN:DAYLIGHT
TZOFFSETFROM:-0500
TZOFFSETTO:-0400
TZNAME:EDT
DTSTART:20230312T070000
END:DAYLIGHT
BEGIN:STANDARD
TZOFFSETFROM:-0400
TZOFFSETTO:-0500
TZNAME:EST
DTSTART:20231105T060000
END:STANDARD
BEGIN:DAYLIGHT
TZOFFSETFROM:-0500
TZOFFSETTO:-0400
TZNAME:EDT
DTSTART:20240310T070000
END:DAYLIGHT
BEGIN:STANDARD
TZOFFSETFROM:-0400
TZOFFSETTO:-0500
TZNAME:EST
DTSTART:20241103T060000
END:STANDARD
END:VTIMEZONE
BEGIN:VEVENT
DTSTART;TZID=America/New_York:20231116T163000
DTEND;TZID=America/New_York:20231116T210000
DTSTAMP:20260421T021931
CREATED:20230331T181840Z
LAST-MODIFIED:20230331T181840Z
UID:52072-1700152200-1700168400@bayweekly.com
SUMMARY:Free Car Shows Every Thursday At The Green Turtle In Edgewater
DESCRIPTION:This is a free event for the family to meet some nice people and look at some very nice cars. Some people arrive around 4:30 and we usually leave when the sun starts to go down. People and cars come and go all evening so your family can enjoy themselves at any time. We hope to see you on any Thursday this summer.
URL:https://bayweekly.com/event/free-car-shows-every-thursday-at-the-green-turtle-in-edgewater-2023-11-16/
LOCATION:MD\, United States
CATEGORIES:art,children,clubs,photography,recreation
ATTACH;FMTTYPE=image/jpeg:https://bayweekly.com/wp-content/uploads/2023/03/car-show.jpg
END:VEVENT
BEGIN:VEVENT
DTSTART;TZID=America/New_York:20231109T163000
DTEND;TZID=America/New_York:20231109T210000
DTSTAMP:20260421T021931
CREATED:20230331T181840Z
LAST-MODIFIED:20230331T181840Z
UID:52071-1699547400-1699563600@bayweekly.com
SUMMARY:Free Car Shows Every Thursday At The Green Turtle In Edgewater
DESCRIPTION:This is a free event for the family to meet some nice people and look at some very nice cars. Some people arrive around 4:30 and we usually leave when the sun starts to go down. People and cars come and go all evening so your family can enjoy themselves at any time. We hope to see you on any Thursday this summer.
URL:https://bayweekly.com/event/free-car-shows-every-thursday-at-the-green-turtle-in-edgewater-2023-11-09/
LOCATION:MD\, United States
CATEGORIES:art,children,clubs,photography,recreation
ATTACH;FMTTYPE=image/jpeg:https://bayweekly.com/wp-content/uploads/2023/03/car-show.jpg
END:VEVENT
BEGIN:VEVENT
DTSTART;TZID=America/New_York:20231102T163000
DTEND;TZID=America/New_York:20231102T210000
DTSTAMP:20260421T021931
CREATED:20230331T181840Z
LAST-MODIFIED:20230331T181840Z
UID:52070-1698942600-1698958800@bayweekly.com
SUMMARY:Free Car Shows Every Thursday At The Green Turtle In Edgewater
DESCRIPTION:This is a free event for the family to meet some nice people and look at some very nice cars. Some people arrive around 4:30 and we usually leave when the sun starts to go down. People and cars come and go all evening so your family can enjoy themselves at any time. We hope to see you on any Thursday this summer.
URL:https://bayweekly.com/event/free-car-shows-every-thursday-at-the-green-turtle-in-edgewater-2023-11-02/
LOCATION:MD\, United States
CATEGORIES:art,children,clubs,photography,recreation
ATTACH;FMTTYPE=image/jpeg:https://bayweekly.com/wp-content/uploads/2023/03/car-show.jpg
END:VEVENT
BEGIN:VEVENT
DTSTART;TZID=America/New_York:20231026T163000
DTEND;TZID=America/New_York:20231026T210000
DTSTAMP:20260421T021931
CREATED:20230331T181840Z
LAST-MODIFIED:20230331T181840Z
UID:52069-1698337800-1698354000@bayweekly.com
SUMMARY:Free Car Shows Every Thursday At The Green Turtle In Edgewater
DESCRIPTION:This is a free event for the family to meet some nice people and look at some very nice cars. Some people arrive around 4:30 and we usually leave when the sun starts to go down. People and cars come and go all evening so your family can enjoy themselves at any time. We hope to see you on any Thursday this summer.
URL:https://bayweekly.com/event/free-car-shows-every-thursday-at-the-green-turtle-in-edgewater-2023-10-26/
LOCATION:MD\, United States
CATEGORIES:art,children,clubs,photography,recreation
ATTACH;FMTTYPE=image/jpeg:https://bayweekly.com/wp-content/uploads/2023/03/car-show.jpg
END:VEVENT
BEGIN:VEVENT
DTSTART;TZID=America/New_York:20231019T163000
DTEND;TZID=America/New_York:20231019T210000
DTSTAMP:20260421T021931
CREATED:20230331T181840Z
LAST-MODIFIED:20230331T181840Z
UID:52068-1697733000-1697749200@bayweekly.com
SUMMARY:Free Car Shows Every Thursday At The Green Turtle In Edgewater
DESCRIPTION:This is a free event for the family to meet some nice people and look at some very nice cars. Some people arrive around 4:30 and we usually leave when the sun starts to go down. People and cars come and go all evening so your family can enjoy themselves at any time. We hope to see you on any Thursday this summer.
URL:https://bayweekly.com/event/free-car-shows-every-thursday-at-the-green-turtle-in-edgewater-2023-10-19/
LOCATION:MD\, United States
CATEGORIES:art,children,clubs,photography,recreation
ATTACH;FMTTYPE=image/jpeg:https://bayweekly.com/wp-content/uploads/2023/03/car-show.jpg
END:VEVENT
BEGIN:VEVENT
DTSTART;TZID=America/New_York:20231012T163000
DTEND;TZID=America/New_York:20231012T210000
DTSTAMP:20260421T021931
CREATED:20230331T181840Z
LAST-MODIFIED:20230331T181840Z
UID:52067-1697128200-1697144400@bayweekly.com
SUMMARY:Free Car Shows Every Thursday At The Green Turtle In Edgewater
DESCRIPTION:This is a free event for the family to meet some nice people and look at some very nice cars. Some people arrive around 4:30 and we usually leave when the sun starts to go down. People and cars come and go all evening so your family can enjoy themselves at any time. We hope to see you on any Thursday this summer.
URL:https://bayweekly.com/event/free-car-shows-every-thursday-at-the-green-turtle-in-edgewater-2023-10-12/
LOCATION:MD\, United States
CATEGORIES:art,children,clubs,photography,recreation
ATTACH;FMTTYPE=image/jpeg:https://bayweekly.com/wp-content/uploads/2023/03/car-show.jpg
END:VEVENT
BEGIN:VEVENT
DTSTART;TZID=America/New_York:20231005T163000
DTEND;TZID=America/New_York:20231005T210000
DTSTAMP:20260421T021931
CREATED:20230331T181840Z
LAST-MODIFIED:20230331T181840Z
UID:52066-1696523400-1696539600@bayweekly.com
SUMMARY:Free Car Shows Every Thursday At The Green Turtle In Edgewater
DESCRIPTION:This is a free event for the family to meet some nice people and look at some very nice cars. Some people arrive around 4:30 and we usually leave when the sun starts to go down. People and cars come and go all evening so your family can enjoy themselves at any time. We hope to see you on any Thursday this summer.
URL:https://bayweekly.com/event/free-car-shows-every-thursday-at-the-green-turtle-in-edgewater-2023-10-05/
LOCATION:MD\, United States
CATEGORIES:art,children,clubs,photography,recreation
ATTACH;FMTTYPE=image/jpeg:https://bayweekly.com/wp-content/uploads/2023/03/car-show.jpg
END:VEVENT
BEGIN:VEVENT
DTSTART;TZID=America/New_York:20230928T163000
DTEND;TZID=America/New_York:20230928T210000
DTSTAMP:20260421T021931
CREATED:20230331T181840Z
LAST-MODIFIED:20230331T181840Z
UID:52065-1695918600-1695934800@bayweekly.com
SUMMARY:Free Car Shows Every Thursday At The Green Turtle In Edgewater
DESCRIPTION:This is a free event for the family to meet some nice people and look at some very nice cars. Some people arrive around 4:30 and we usually leave when the sun starts to go down. People and cars come and go all evening so your family can enjoy themselves at any time. We hope to see you on any Thursday this summer.
URL:https://bayweekly.com/event/free-car-shows-every-thursday-at-the-green-turtle-in-edgewater-2023-09-28/
LOCATION:MD\, United States
CATEGORIES:art,children,clubs,photography,recreation
ATTACH;FMTTYPE=image/jpeg:https://bayweekly.com/wp-content/uploads/2023/03/car-show.jpg
END:VEVENT
BEGIN:VEVENT
DTSTART;TZID=America/New_York:20230921T163000
DTEND;TZID=America/New_York:20230921T210000
DTSTAMP:20260421T021931
CREATED:20230331T181840Z
LAST-MODIFIED:20230331T181840Z
UID:52064-1695313800-1695330000@bayweekly.com
SUMMARY:Free Car Shows Every Thursday At The Green Turtle In Edgewater
DESCRIPTION:This is a free event for the family to meet some nice people and look at some very nice cars. Some people arrive around 4:30 and we usually leave when the sun starts to go down. People and cars come and go all evening so your family can enjoy themselves at any time. We hope to see you on any Thursday this summer.
URL:https://bayweekly.com/event/free-car-shows-every-thursday-at-the-green-turtle-in-edgewater-2023-09-21/
LOCATION:MD\, United States
CATEGORIES:art,children,clubs,photography,recreation
ATTACH;FMTTYPE=image/jpeg:https://bayweekly.com/wp-content/uploads/2023/03/car-show.jpg
END:VEVENT
BEGIN:VEVENT
DTSTART;TZID=America/New_York:20230914T163000
DTEND;TZID=America/New_York:20230914T210000
DTSTAMP:20260421T021931
CREATED:20230331T181840Z
LAST-MODIFIED:20230331T181840Z
UID:52063-1694709000-1694725200@bayweekly.com
SUMMARY:Free Car Shows Every Thursday At The Green Turtle In Edgewater
DESCRIPTION:This is a free event for the family to meet some nice people and look at some very nice cars. Some people arrive around 4:30 and we usually leave when the sun starts to go down. People and cars come and go all evening so your family can enjoy themselves at any time. We hope to see you on any Thursday this summer.
URL:https://bayweekly.com/event/free-car-shows-every-thursday-at-the-green-turtle-in-edgewater-2023-09-14/
LOCATION:MD\, United States
CATEGORIES:art,children,clubs,photography,recreation
ATTACH;FMTTYPE=image/jpeg:https://bayweekly.com/wp-content/uploads/2023/03/car-show.jpg
END:VEVENT
BEGIN:VEVENT
DTSTART;TZID=America/New_York:20230907T163000
DTEND;TZID=America/New_York:20230907T210000
DTSTAMP:20260421T021931
CREATED:20230331T181840Z
LAST-MODIFIED:20230331T181840Z
UID:52062-1694104200-1694120400@bayweekly.com
SUMMARY:Free Car Shows Every Thursday At The Green Turtle In Edgewater
DESCRIPTION:This is a free event for the family to meet some nice people and look at some very nice cars. Some people arrive around 4:30 and we usually leave when the sun starts to go down. People and cars come and go all evening so your family can enjoy themselves at any time. We hope to see you on any Thursday this summer.
URL:https://bayweekly.com/event/free-car-shows-every-thursday-at-the-green-turtle-in-edgewater-2023-09-07/
LOCATION:MD\, United States
CATEGORIES:art,children,clubs,photography,recreation
ATTACH;FMTTYPE=image/jpeg:https://bayweekly.com/wp-content/uploads/2023/03/car-show.jpg
END:VEVENT
BEGIN:VEVENT
DTSTART;TZID=America/New_York:20230831T163000
DTEND;TZID=America/New_York:20230831T210000
DTSTAMP:20260421T021931
CREATED:20230331T181840Z
LAST-MODIFIED:20230331T181840Z
UID:52061-1693499400-1693515600@bayweekly.com
SUMMARY:Free Car Shows Every Thursday At The Green Turtle In Edgewater
DESCRIPTION:This is a free event for the family to meet some nice people and look at some very nice cars. Some people arrive around 4:30 and we usually leave when the sun starts to go down. People and cars come and go all evening so your family can enjoy themselves at any time. We hope to see you on any Thursday this summer.
URL:https://bayweekly.com/event/free-car-shows-every-thursday-at-the-green-turtle-in-edgewater-2023-08-31/
LOCATION:MD\, United States
CATEGORIES:art,children,clubs,photography,recreation
ATTACH;FMTTYPE=image/jpeg:https://bayweekly.com/wp-content/uploads/2023/03/car-show.jpg
END:VEVENT
BEGIN:VEVENT
DTSTART;TZID=America/New_York:20230824T163000
DTEND;TZID=America/New_York:20230824T210000
DTSTAMP:20260421T021931
CREATED:20230331T181840Z
LAST-MODIFIED:20230403T131746Z
UID:52060-1692894600-1692910800@bayweekly.com
SUMMARY:Free Car Shows Every Thursday At The Green Turtle In Edgewater
DESCRIPTION:This is a free event for the family to meet some nice people and look at some very nice cars. Some people arrive around 4:30 and we usually  leave when the sun starts to go down. People and cars come and go all evening so your family can enjoy themselves at any time. We hope to see you on any Thursday this summer.
URL:https://bayweekly.com/event/2023-08-24/
LOCATION:MD\, United States
CATEGORIES:art,children,clubs,photography,recreation
ATTACH;FMTTYPE=image/jpeg:https://bayweekly.com/wp-content/uploads/2023/03/car-show.jpg
END:VEVENT
BEGIN:VEVENT
DTSTART;TZID=America/New_York:20230817T163000
DTEND;TZID=America/New_York:20230817T210000
DTSTAMP:20260421T021931
CREATED:20230331T181840Z
LAST-MODIFIED:20230403T131746Z
UID:52059-1692289800-1692306000@bayweekly.com
SUMMARY:Free Car Shows Every Thursday At The Green Turtle In Edgewater
DESCRIPTION:This is a free event for the family to meet some nice people and look at some very nice cars. Some people arrive around 4:30 and we usually  leave when the sun starts to go down. People and cars come and go all evening so your family can enjoy themselves at any time. We hope to see you on any Thursday this summer.
URL:https://bayweekly.com/event/2023-08-17/
LOCATION:MD\, United States
CATEGORIES:art,children,clubs,photography,recreation
ATTACH;FMTTYPE=image/jpeg:https://bayweekly.com/wp-content/uploads/2023/03/car-show.jpg
END:VEVENT
BEGIN:VEVENT
DTSTART;TZID=America/New_York:20230810T163000
DTEND;TZID=America/New_York:20230810T210000
DTSTAMP:20260421T021931
CREATED:20230331T181840Z
LAST-MODIFIED:20230403T131746Z
UID:52058-1691685000-1691701200@bayweekly.com
SUMMARY:Free Car Shows Every Thursday At The Green Turtle In Edgewater
DESCRIPTION:This is a free event for the family to meet some nice people and look at some very nice cars. Some people arrive around 4:30 and we usually  leave when the sun starts to go down. People and cars come and go all evening so your family can enjoy themselves at any time. We hope to see you on any Thursday this summer.
URL:https://bayweekly.com/event/2023-08-10/
LOCATION:MD\, United States
CATEGORIES:art,children,clubs,photography,recreation
ATTACH;FMTTYPE=image/jpeg:https://bayweekly.com/wp-content/uploads/2023/03/car-show.jpg
END:VEVENT
BEGIN:VEVENT
DTSTART;TZID=America/New_York:20230803T163000
DTEND;TZID=America/New_York:20230803T210000
DTSTAMP:20260421T021931
CREATED:20230331T181840Z
LAST-MODIFIED:20230403T131745Z
UID:52057-1691080200-1691096400@bayweekly.com
SUMMARY:Free Car Shows Every Thursday At The Green Turtle In Edgewater
DESCRIPTION:This is a free event for the family to meet some nice people and look at some very nice cars. Some people arrive around 4:30 and we usually  leave when the sun starts to go down. People and cars come and go all evening so your family can enjoy themselves at any time. We hope to see you on any Thursday this summer.
URL:https://bayweekly.com/event/2023-08-03/
LOCATION:MD\, United States
CATEGORIES:art,children,clubs,photography,recreation
ATTACH;FMTTYPE=image/jpeg:https://bayweekly.com/wp-content/uploads/2023/03/car-show.jpg
END:VEVENT
BEGIN:VEVENT
DTSTART;TZID=America/New_York:20230727T163000
DTEND;TZID=America/New_York:20230727T210000
DTSTAMP:20260421T021931
CREATED:20230331T181840Z
LAST-MODIFIED:20230403T131745Z
UID:52056-1690475400-1690491600@bayweekly.com
SUMMARY:Free Car Shows Every Thursday At The Green Turtle In Edgewater
DESCRIPTION:This is a free event for the family to meet some nice people and look at some very nice cars. Some people arrive around 4:30 and we usually  leave when the sun starts to go down. People and cars come and go all evening so your family can enjoy themselves at any time. We hope to see you on any Thursday this summer.
URL:https://bayweekly.com/event/2023-07-27/
LOCATION:MD\, United States
CATEGORIES:art,children,clubs,photography,recreation
ATTACH;FMTTYPE=image/jpeg:https://bayweekly.com/wp-content/uploads/2023/03/car-show.jpg
END:VEVENT
BEGIN:VEVENT
DTSTART;TZID=America/New_York:20230720T163000
DTEND;TZID=America/New_York:20230720T210000
DTSTAMP:20260421T021931
CREATED:20230331T181840Z
LAST-MODIFIED:20230403T131744Z
UID:52055-1689870600-1689886800@bayweekly.com
SUMMARY:Free Car Shows Every Thursday At The Green Turtle In Edgewater
DESCRIPTION:This is a free event for the family to meet some nice people and look at some very nice cars. Some people arrive around 4:30 and we usually  leave when the sun starts to go down. People and cars come and go all evening so your family can enjoy themselves at any time. We hope to see you on any Thursday this summer.
URL:https://bayweekly.com/event/2023-07-20/
LOCATION:MD\, United States
CATEGORIES:art,children,clubs,photography,recreation
ATTACH;FMTTYPE=image/jpeg:https://bayweekly.com/wp-content/uploads/2023/03/car-show.jpg
END:VEVENT
BEGIN:VEVENT
DTSTART;TZID=America/New_York:20230713T163000
DTEND;TZID=America/New_York:20230713T210000
DTSTAMP:20260421T021931
CREATED:20230331T181840Z
LAST-MODIFIED:20230403T131744Z
UID:52054-1689265800-1689282000@bayweekly.com
SUMMARY:Free Car Shows Every Thursday At The Green Turtle In Edgewater
DESCRIPTION:This is a free event for the family to meet some nice people and look at some very nice cars. Some people arrive around 4:30 and we usually  leave when the sun starts to go down. People and cars come and go all evening so your family can enjoy themselves at any time. We hope to see you on any Thursday this summer.
URL:https://bayweekly.com/event/2023-07-13/
LOCATION:MD\, United States
CATEGORIES:art,children,clubs,photography,recreation
ATTACH;FMTTYPE=image/jpeg:https://bayweekly.com/wp-content/uploads/2023/03/car-show.jpg
END:VEVENT
BEGIN:VEVENT
DTSTART;TZID=America/New_York:20230706T163000
DTEND;TZID=America/New_York:20230706T210000
DTSTAMP:20260421T021931
CREATED:20230331T181840Z
LAST-MODIFIED:20230403T131744Z
UID:52053-1688661000-1688677200@bayweekly.com
SUMMARY:Free Car Shows Every Thursday At The Green Turtle In Edgewater
DESCRIPTION:This is a free event for the family to meet some nice people and look at some very nice cars. Some people arrive around 4:30 and we usually  leave when the sun starts to go down. People and cars come and go all evening so your family can enjoy themselves at any time. We hope to see you on any Thursday this summer.
URL:https://bayweekly.com/event/2023-07-06/
LOCATION:MD\, United States
CATEGORIES:art,children,clubs,photography,recreation
ATTACH;FMTTYPE=image/jpeg:https://bayweekly.com/wp-content/uploads/2023/03/car-show.jpg
END:VEVENT
BEGIN:VEVENT
DTSTART;TZID=America/New_York:20230629T163000
DTEND;TZID=America/New_York:20230629T210000
DTSTAMP:20260421T021931
CREATED:20230331T181840Z
LAST-MODIFIED:20230403T131743Z
UID:52052-1688056200-1688072400@bayweekly.com
SUMMARY:Free Car Shows Every Thursday At The Green Turtle In Edgewater
DESCRIPTION:This is a free event for the family to meet some nice people and look at some very nice cars. Some people arrive around 4:30 and we usually  leave when the sun starts to go down. People and cars come and go all evening so your family can enjoy themselves at any time. We hope to see you on any Thursday this summer.
URL:https://bayweekly.com/event/2023-06-29/
LOCATION:MD\, United States
CATEGORIES:art,children,clubs,photography,recreation
ATTACH;FMTTYPE=image/jpeg:https://bayweekly.com/wp-content/uploads/2023/03/car-show.jpg
END:VEVENT
BEGIN:VEVENT
DTSTART;TZID=America/New_York:20230622T163000
DTEND;TZID=America/New_York:20230622T210000
DTSTAMP:20260421T021931
CREATED:20230331T181840Z
LAST-MODIFIED:20230403T131743Z
UID:52051-1687451400-1687467600@bayweekly.com
SUMMARY:Free Car Shows Every Thursday At The Green Turtle In Edgewater
DESCRIPTION:This is a free event for the family to meet some nice people and look at some very nice cars. Some people arrive around 4:30 and we usually  leave when the sun starts to go down. People and cars come and go all evening so your family can enjoy themselves at any time. We hope to see you on any Thursday this summer.
URL:https://bayweekly.com/event/2023-06-22/
LOCATION:MD\, United States
CATEGORIES:art,children,clubs,photography,recreation
ATTACH;FMTTYPE=image/jpeg:https://bayweekly.com/wp-content/uploads/2023/03/car-show.jpg
END:VEVENT
BEGIN:VEVENT
DTSTART;TZID=America/New_York:20230515T190000
DTEND;TZID=America/New_York:20230515T210000
DTSTAMP:20260421T021931
CREATED:20230509T195414Z
LAST-MODIFIED:20230509T215104Z
UID:52939-1684177200-1684184400@bayweekly.com
SUMMARY:Digital Photography Club of Annapolis Zoom Meeting
DESCRIPTION:The DPCA is a diverse group of beginners\, hobbyists and professionals who love to take and share photos. Email the club president at president@digitalphotoclub.net for a link to the next Zoom meeting. The speaker for the 15 May 2023 Zoom meeting is Wayne Wolfersberger and the topic is “Nature is Wild.”
URL:https://bayweekly.com/event/digital-photography-club-of-annapolis-zoom-meeting-7/
LOCATION:Virtual
CATEGORIES:photography
ORGANIZER;CN="Digital Photography Club of Annapolis":MAILTO:president@digitalphotoclub.net
END:VEVENT
BEGIN:VEVENT
DTSTART;TZID=America/New_York:20230501T190000
DTEND;TZID=America/New_York:20230501T210000
DTSTAMP:20260421T021931
CREATED:20230425T012246Z
LAST-MODIFIED:20230425T015837Z
UID:52547-1682967600-1682974800@bayweekly.com
SUMMARY:Digital Photography Club of Annapolis Meeting
DESCRIPTION:The DPCA is a diverse group of beginners\, hobbyists and professionals who love to take and share photos. Visitors may attend up to two meetings as guests before joining the DPCA. Visit www.digitalphotoclub.net. The speaker for the 1 May 2023 meeting is Edmund Polaszynski\, and the topic is “Life Forms.” This meeting will be in the Bowen Theatre at Maryland Hall for the Creative Arts\, 801 Chase Street\, Annapolis\, from 7:00pm to 9:00pm with social time at 6:30pm.
URL:https://bayweekly.com/event/digital-photography-club-of-annapolis-meeting-5/
LOCATION:Maryland Hall for the Creative Arts\, 801 Chase Street\, Annapolis\, 21401
CATEGORIES:photography
ORGANIZER;CN="Digital Photography Club of Annapolis":MAILTO:president@digitalphotoclub.net
END:VEVENT
BEGIN:VEVENT
DTSTART;TZID=America/New_York:20230417T190000
DTEND;TZID=America/New_York:20230417T210000
DTSTAMP:20260421T021931
CREATED:20230408T224434Z
LAST-MODIFIED:20230408T231247Z
UID:52243-1681758000-1681765200@bayweekly.com
SUMMARY:Digital Photography Club of Annapolis Zoom Meeting
DESCRIPTION:The DPCA is a diverse group of beginners\, hobbyists and professionals who love to take and share photos. Email the club president at president@digitalphotoclub.net for a link to the next Zoom meeting. The speaker for the 17 April 2023 Zoom meeting is Connie Imboden\, whose photographs have been exhibited in galleries and museums around the world.
URL:https://bayweekly.com/event/digital-photography-club-of-annapolis-zoom-meeting-6/
LOCATION:Virtual
CATEGORIES:photography
ORGANIZER;CN="Digital Photography Club of Annapolis":MAILTO:president@digitalphotoclub.net
END:VEVENT
BEGIN:VEVENT
DTSTART;TZID=America/New_York:20230406T163000
DTEND;TZID=America/New_York:20230406T210000
DTSTAMP:20260421T021931
CREATED:20230331T181840Z
LAST-MODIFIED:20230331T183058Z
UID:52038-1680798600-1680814800@bayweekly.com
SUMMARY:Free Car Shows Every Thursday At The Green Turtle In Edgewater
DESCRIPTION:This is a free event for the family to meet some nice people and look at some very nice cars. Some people arrive around 4:30 and we usually leave when the sun starts to go down. People and cars come and go all evening so your family can enjoy themselves at any time. We hope to see you on any Thursday this summer.
URL:https://bayweekly.com/event/free-car-shows-every-thursday-at-the-green-turtle-in-edgewater/
LOCATION:MD\, United States
CATEGORIES:art,children,clubs,photography,recreation
ATTACH;FMTTYPE=image/jpeg:https://bayweekly.com/wp-content/uploads/2023/03/car-show.jpg
END:VEVENT
BEGIN:VEVENT
DTSTART;TZID=America/New_York:20230403T190000
DTEND;TZID=America/New_York:20230403T210000
DTSTAMP:20260421T021931
CREATED:20230327T205425Z
LAST-MODIFIED:20230327T214319Z
UID:52003-1680548400-1680555600@bayweekly.com
SUMMARY:Digital Photography Club of Annapolis Meeting
DESCRIPTION:The DPCA is a diverse group of beginners\, hobbyists and professionals who love to take and share photos. Visit www.digitalphotoclub.net. The speaker for the 3 April 2023 meeting is Kim Kelly\, and the topic is “The Chesapeake Bay – A Journey Through Time.” This meeting will be in the Bowen Theatre at Maryland Hall for the Creative Arts\, 801 Chase Street\, Annapolis\, from 7:00pm to 9:00pm with social time at 6:30pm.
URL:https://bayweekly.com/event/digital-photography-club-of-annapolis-meeting-4/
LOCATION:Maryland Hall for the Creative Arts\, 801 Chase Street\, Annapolis\, 21401
CATEGORIES:photography
ORGANIZER;CN="Digital Photography Club of Annapolis":MAILTO:president@digitalphotoclub.net
END:VEVENT
BEGIN:VEVENT
DTSTART;TZID=America/New_York:20230320T190000
DTEND;TZID=America/New_York:20230320T210000
DTSTAMP:20260421T021931
CREATED:20230310T152707Z
LAST-MODIFIED:20230310T152821Z
UID:51659-1679338800-1679346000@bayweekly.com
SUMMARY:Digital Photography Club of Annapolis Zoom Meeting
DESCRIPTION:The DPCA is a diverse group of beginners\, hobbyists and professionals who love to take and share photos and are all about educating each other and the public about how to improve our photos. The club meets bi-weekly alternating between Zoom and in person. We get together to learn\, help each other\, trade ideas\, have Challenges & Showcases\, take field trips\, and have fun. Visitors from beginners to pros are welcome at meetings. Please join us! For more information\, visit www.digitalphotoclub.net. Email the club president at president@digitalphotoclub.net for a link to the next Zoom meeting and follow us on Facebook at “Digital Photo Club of Annapolis”. Visitors may attend up to two meetings as guests before joining the DPCA. The speaker for the 20 March 2023 meeting is Denise Silva and the topic is “Travel Photography.”
URL:https://bayweekly.com/event/digital-photography-club-of-annapolis-zoom-meeting-5/
LOCATION:Virtual Event\, Online\, Baltimore\, 21234
CATEGORIES:photography
ORGANIZER;CN="Digital Photography Club of Annapolis":MAILTO:president@digitalphotoclub.net
END:VEVENT
BEGIN:VEVENT
DTSTART;TZID=America/New_York:20230306T183000
DTEND;TZID=America/New_York:20230306T210000
DTSTAMP:20260421T021931
CREATED:20230224T202115Z
LAST-MODIFIED:20230224T205629Z
UID:51379-1678127400-1678136400@bayweekly.com
SUMMARY:Digital Photography Club of Annapolis Meeting
DESCRIPTION:The DPCA is a diverse group of beginners\, hobbyists and professionals who love to take and share photos and are all about educating each other and the public about how to improve our photos. The club meets bi-weekly. The meeting venue alternates between Maryland Hall for the Creative Arts and via Zoom. We get together to learn\, help each other\, trade ideas\, have Challenges & Showcases\, take field trips\, and have fun. Visitors from beginners to pros are welcome at meetings. Please join us! For more information visit www.digitalphotoclub.net and follow us on Facebook at “Digital Photo Club of Annapolis”. Visitors may attend up to two meetings as guests before joining the DPCA. At the 6 March 2023 meeting club members will make presentations. This meeting will be in the Bowen Theatre at Maryland Hall for the Creative Arts\, 801 Chase Street\, Annapolis\, from 7:00pm to 9:00pm. Social time is 6:30pm to 7:00pm.
URL:https://bayweekly.com/event/digital-photography-club-of-annapolis-meeting-3/
LOCATION:Maryland Hall for the Creative Arts\, 801 Chase Street\, Annapolis\, 21401
CATEGORIES:photography
ORGANIZER;CN="Digital Photography Club of Annapolis":MAILTO:president@digitalphotoclub.net
END:VEVENT
BEGIN:VEVENT
DTSTART;TZID=America/New_York:20230220T190000
DTEND;TZID=America/New_York:20230220T210000
DTSTAMP:20260421T021931
CREATED:20230213T161140Z
LAST-MODIFIED:20230213T162129Z
UID:51140-1676919600-1676926800@bayweekly.com
SUMMARY:Digital Photography Club of Annapolis Zoom Meeting
DESCRIPTION:The DPCA is a diverse group of beginners\, hobbyists and professionals who love to take and share photos. The speaker for the 20 February 2023 Zoom meeting is Irene Hinke-Sacilotto and the topic is “A Passion for Wildlife Photography; the Stories Behind the Images.”
URL:https://bayweekly.com/event/digital-photography-club-of-annapolis-zoom-meeting-4/
LOCATION:Virtual
CATEGORIES:photography
ORGANIZER;CN="Digital Photography Club of Annapolis":MAILTO:president@digitalphotoclub.net
END:VEVENT
END:VCALENDAR