BEGIN:VCALENDAR
VERSION:2.0
PRODID:-//Bay Weekly - ECPv6.15.17.1//NONSGML v1.0//EN
CALSCALE:GREGORIAN
METHOD:PUBLISH
X-ORIGINAL-URL:https://bayweekly.com
X-WR-CALDESC:Events for Bay Weekly
REFRESH-INTERVAL;VALUE=DURATION:PT1H
X-Robots-Tag:noindex
X-PUBLISHED-TTL:PT1H
BEGIN:VTIMEZONE
TZID:America/New_York
BEGIN:DAYLIGHT
TZOFFSETFROM:-0500
TZOFFSETTO:-0400
TZNAME:EDT
DTSTART:20200308T070000
END:DAYLIGHT
BEGIN:STANDARD
TZOFFSETFROM:-0400
TZOFFSETTO:-0500
TZNAME:EST
DTSTART:20201101T060000
END:STANDARD
BEGIN:DAYLIGHT
TZOFFSETFROM:-0500
TZOFFSETTO:-0400
TZNAME:EDT
DTSTART:20210314T070000
END:DAYLIGHT
BEGIN:STANDARD
TZOFFSETFROM:-0400
TZOFFSETTO:-0500
TZNAME:EST
DTSTART:20211107T060000
END:STANDARD
BEGIN:DAYLIGHT
TZOFFSETFROM:-0500
TZOFFSETTO:-0400
TZNAME:EDT
DTSTART:20220313T070000
END:DAYLIGHT
BEGIN:STANDARD
TZOFFSETFROM:-0400
TZOFFSETTO:-0500
TZNAME:EST
DTSTART:20221106T060000
END:STANDARD
BEGIN:DAYLIGHT
TZOFFSETFROM:-0500
TZOFFSETTO:-0400
TZNAME:EDT
DTSTART:20230312T070000
END:DAYLIGHT
BEGIN:STANDARD
TZOFFSETFROM:-0400
TZOFFSETTO:-0500
TZNAME:EST
DTSTART:20231105T060000
END:STANDARD
END:VTIMEZONE
BEGIN:VEVENT
DTSTART;TZID=America/New_York:20221119T100000
DTEND;TZID=America/New_York:20221119T150000
DTSTAMP:20260422T010520
CREATED:20220919T182909Z
LAST-MODIFIED:20220919T183124Z
UID:45364-1668852000-1668870000@bayweekly.com
SUMMARY:Holiday Photos with Horses and Holiday Market
DESCRIPTION:Come celebrate the Holiday season with the FHHR horses! Shop for everyone on your Christmas list at the Holiday Market. The Market is FREE for entry and includes local artisans\, crafters\, and more! \nFor $25\, you and your whole family can have a 15-minute professional photography shoot with your favorite FHHR horse. Photos with Santa are available for $5.
URL:https://bayweekly.com/event/holiday-photos-with-horses-and-holiday-market/
LOCATION:freedom hill horse rescue\, 7940 N. Flint Hill Rd\, Owings\, MD\, 20736
CATEGORIES:children,fundraiser,photography
ATTACH;FMTTYPE=image/jpeg:https://bayweekly.com/wp-content/uploads/2022/09/Holiday-Photos-2022-Poster.jpg
ORGANIZER;CN="Freedom Hill Horse Rescue":MAILTO:freedom.hill.org@gmail.com
END:VEVENT
BEGIN:VEVENT
DTSTART;TZID=America/New_York:20221118T183000
DTEND;TZID=America/New_York:20221118T203000
DTSTAMP:20260422T010520
CREATED:20220719T143533Z
LAST-MODIFIED:20220719T202706Z
UID:42817-1668796200-1668803400@bayweekly.com
SUMMARY:Wilma Lee Sunset Cruise 2022 Season
DESCRIPTION:Join our crew for a two-hour extraordinary cruise enjoying the golden hour on the Chesapeake Bay. Includes complimentary beverages (wine\, beer\, canned cocktails and soda).
URL:https://bayweekly.com/event/2022-11-18/
LOCATION:Annapolis Maritime Museum\, MD\, United States
CATEGORIES:photography
ATTACH;FMTTYPE=image/jpeg:https://bayweekly.com/wp-content/uploads/2022/07/image0-scaled.jpeg
ORGANIZER;CN="Annapolis Maritime Museum":MAILTO:program@amaritime.org
END:VEVENT
BEGIN:VEVENT
DTSTART;TZID=America/New_York:20221111T183000
DTEND;TZID=America/New_York:20221111T203000
DTSTAMP:20260422T010520
CREATED:20220719T143533Z
LAST-MODIFIED:20220719T202706Z
UID:42816-1668191400-1668198600@bayweekly.com
SUMMARY:Wilma Lee Sunset Cruise 2022 Season
DESCRIPTION:Join our crew for a two-hour extraordinary cruise enjoying the golden hour on the Chesapeake Bay. Includes complimentary beverages (wine\, beer\, canned cocktails and soda).
URL:https://bayweekly.com/event/2022-11-11/
LOCATION:Annapolis Maritime Museum\, MD\, United States
CATEGORIES:photography
ATTACH;FMTTYPE=image/jpeg:https://bayweekly.com/wp-content/uploads/2022/07/image0-scaled.jpeg
ORGANIZER;CN="Annapolis Maritime Museum":MAILTO:program@amaritime.org
END:VEVENT
BEGIN:VEVENT
DTSTART;TZID=America/New_York:20221104T183000
DTEND;TZID=America/New_York:20221104T203000
DTSTAMP:20260422T010520
CREATED:20220719T143533Z
LAST-MODIFIED:20220719T202706Z
UID:42814-1667586600-1667593800@bayweekly.com
SUMMARY:Wilma Lee Sunset Cruise 2022 Season
DESCRIPTION:Join our crew for a two-hour extraordinary cruise enjoying the golden hour on the Chesapeake Bay. Includes complimentary beverages (wine\, beer\, canned cocktails and soda).
URL:https://bayweekly.com/event/2022-11-04/
LOCATION:Annapolis Maritime Museum\, MD\, United States
CATEGORIES:photography
ATTACH;FMTTYPE=image/jpeg:https://bayweekly.com/wp-content/uploads/2022/07/image0-scaled.jpeg
ORGANIZER;CN="Annapolis Maritime Museum":MAILTO:program@amaritime.org
END:VEVENT
BEGIN:VEVENT
DTSTART;TZID=America/New_York:20221028T183000
DTEND;TZID=America/New_York:20221028T203000
DTSTAMP:20260422T010520
CREATED:20220719T143533Z
LAST-MODIFIED:20220719T202705Z
UID:42813-1666981800-1666989000@bayweekly.com
SUMMARY:Wilma Lee Sunset Cruise 2022 Season
DESCRIPTION:Join our crew for a two-hour extraordinary cruise enjoying the golden hour on the Chesapeake Bay. Includes complimentary beverages (wine\, beer\, canned cocktails and soda).
URL:https://bayweekly.com/event/2022-10-28/
LOCATION:Annapolis Maritime Museum\, MD\, United States
CATEGORIES:photography
ATTACH;FMTTYPE=image/jpeg:https://bayweekly.com/wp-content/uploads/2022/07/image0-scaled.jpeg
ORGANIZER;CN="Annapolis Maritime Museum":MAILTO:program@amaritime.org
END:VEVENT
BEGIN:VEVENT
DTSTART;TZID=America/New_York:20221021T183000
DTEND;TZID=America/New_York:20221021T203000
DTSTAMP:20260422T010520
CREATED:20220719T143533Z
LAST-MODIFIED:20220719T202705Z
UID:42812-1666377000-1666384200@bayweekly.com
SUMMARY:Wilma Lee Sunset Cruise 2022 Season
DESCRIPTION:Join our crew for a two-hour extraordinary cruise enjoying the golden hour on the Chesapeake Bay. Includes complimentary beverages (wine\, beer\, canned cocktails and soda).
URL:https://bayweekly.com/event/2022-10-21/
LOCATION:Annapolis Maritime Museum\, MD\, United States
CATEGORIES:photography
ATTACH;FMTTYPE=image/jpeg:https://bayweekly.com/wp-content/uploads/2022/07/image0-scaled.jpeg
ORGANIZER;CN="Annapolis Maritime Museum":MAILTO:program@amaritime.org
END:VEVENT
BEGIN:VEVENT
DTSTART;TZID=America/New_York:20221017T183000
DTEND;TZID=America/New_York:20221017T210000
DTSTAMP:20260422T010520
CREATED:20210901T013007Z
LAST-MODIFIED:20221003T222051Z
UID:32335-1666031400-1666040400@bayweekly.com
SUMMARY:Digital Photo Club
DESCRIPTION:The DPCA is a diverse group of beginners\, hobbyists and professionals who love to take and share photos and are all about educating each other and the public about how to improve our photos. The club meets bi-weekly.  The meeting venue alternates between Maryland Hall for the Creative Arts and via Zoom. DPCA host a professional photographer each week as a guest speaker. We get together to learn\, help each other\, trade ideas\, have Challenges & Showcases\, take field trips\, and have fun. Visitors from beginners to pros are welcome at meetings. Please join us! For more information\, visit www.digitalphotoclub.net and follow us on Facebook at “Digital Photo Club of Annapolis”. Visitors may attend up to two meetings as guests before joining the DPCA. The speaker for the 17 October 2022 meeting is Heather Crowder and the topic is “Portraiture.” This meeting will be at Maryland Hall for the Creative Arts from 6:30pm to 9:00pm.
URL:https://bayweekly.com/event/digital-photo-club-2/
LOCATION:Maryland Hall\, 801 Chase St.\, Annapolis\, MD\, 21401
CATEGORIES:photography
END:VEVENT
BEGIN:VEVENT
DTSTART;TZID=America/New_York:20221014T183000
DTEND;TZID=America/New_York:20221014T203000
DTSTAMP:20260422T010520
CREATED:20220719T143533Z
LAST-MODIFIED:20220719T202705Z
UID:42811-1665772200-1665779400@bayweekly.com
SUMMARY:Wilma Lee Sunset Cruise 2022 Season
DESCRIPTION:Join our crew for a two-hour extraordinary cruise enjoying the golden hour on the Chesapeake Bay. Includes complimentary beverages (wine\, beer\, canned cocktails and soda).
URL:https://bayweekly.com/event/2022-10-14/
LOCATION:Annapolis Maritime Museum\, MD\, United States
CATEGORIES:photography
ATTACH;FMTTYPE=image/jpeg:https://bayweekly.com/wp-content/uploads/2022/07/image0-scaled.jpeg
ORGANIZER;CN="Annapolis Maritime Museum":MAILTO:program@amaritime.org
END:VEVENT
BEGIN:VEVENT
DTSTART;TZID=America/New_York:20220809T173000
DTEND;TZID=America/New_York:20220809T190000
DTSTAMP:20260422T010520
CREATED:20220726T233252Z
LAST-MODIFIED:20220726T234449Z
UID:43048-1660066200-1660071600@bayweekly.com
SUMMARY:Meet the artists at Gallery 57 West-David Blecman and Deborah Schwab
DESCRIPTION:Meet our Gallery 57 West artists David Blecman – photography and Deborah Schwab – acrylics on facebook live on Tuesday August 9th at 5:30 pm. David and Deborah share their inspirations\, insights and techniques with the audience and you will have an opportunity to interact with the artists.
URL:https://bayweekly.com/event/meet-the-artists-at-gallery-57-west-david-blecman-and-deborah-schwab/
LOCATION:Gallery 57 West\, 57 West Street\, Annapolis\, 21401
CATEGORIES:Art Gallery Show,Events,photography
ATTACH;FMTTYPE=image/jpeg:https://bayweekly.com/wp-content/uploads/2022/07/Meet-the-Artist-8_22.jpeg
ORGANIZER;CN="Annapolis Arts Alliance":MAILTO:chesapeakepics@gmail.com
END:VEVENT
BEGIN:VEVENT
DTSTART;TZID=America/New_York:20220729T183000
DTEND;TZID=America/New_York:20220729T203000
DTSTAMP:20260422T010520
CREATED:20220719T143533Z
LAST-MODIFIED:20220719T143917Z
UID:42799-1659119400-1659126600@bayweekly.com
SUMMARY:Wilma Lee Sunset Cruise 2022 Season
DESCRIPTION:Join our crew for a two-hour extraordinary cruise enjoying the golden hour on the Chesapeake Bay. Includes complimentary beverages (wine\, beer\, canned cocktails and soda).
URL:https://bayweekly.com/event/wilma-lee-sunset-cruise-2022-season/
LOCATION:Annapolis Maritime Museum\, MD\, United States
CATEGORIES:photography
ATTACH;FMTTYPE=image/jpeg:https://bayweekly.com/wp-content/uploads/2022/07/image0-scaled.jpeg
ORGANIZER;CN="Annapolis Maritime Museum":MAILTO:program@amaritime.org
END:VEVENT
BEGIN:VEVENT
DTSTART;TZID=America/New_York:20220723T130000
DTEND;TZID=America/New_York:20220723T150000
DTSTAMP:20260422T010520
CREATED:20220718T150123Z
LAST-MODIFIED:20220718T150641Z
UID:42776-1658581200-1658588400@bayweekly.com
SUMMARY:Wilma Lee Heritage Cruise 2022
DESCRIPTION:Experience Annapolis and the Chesapeake Bay like never before on this guided two-hour heritage sail aboard the historic Skipjack Wilma Lee. Learn about the city’s history and the ecology of the Bay while viewing landmarks like the Chesapeake Bay Bridge and the Naval Academy. Tour guides will identify and share fun facts about native Chesapeake Bay wildlife along the sail. Perfect for families and maritime enthusiasts.
URL:https://bayweekly.com/event/wilma-lee-heritage-cruise-2022/
LOCATION:Annapolis Maritime Museum\, MD\, United States
CATEGORIES:outdoors,photography
ATTACH;FMTTYPE=image/jpeg:https://bayweekly.com/wp-content/uploads/2022/07/wilma-lee-cambridge-3.jpg
ORGANIZER;CN="Annapolis Maritime Museum":MAILTO:program@amaritime.org
END:VEVENT
BEGIN:VEVENT
DTSTART;TZID=America/New_York:20220326T093000
DTEND;TZID=America/New_York:20220326T110000
DTSTAMP:20260422T010520
CREATED:20220322T204302Z
LAST-MODIFIED:20220322T210850Z
UID:38280-1648287000-1648292400@bayweekly.com
SUMMARY:Oh Snap! | Monthly Photo Exploration
DESCRIPTION:Meet-up with us on the last Saturday of each month to talk about all things photography! We’ll focus each month on a theme and use that as a starting point to practice the elements we cover in the First Exposure workshop. Meet-ups will include real-time troubleshooting\, camera pointers\, and informal critiques.
URL:https://bayweekly.com/event/oh-snap-monthly-photo-exploration/
LOCATION:ArtFarm Studios\, 111 Chinquapin Round Road Suite #200\, Annapolis\, 21401
CATEGORIES:photography
ATTACH;FMTTYPE=image/jpeg:https://bayweekly.com/wp-content/uploads/2022/03/2F39C284-BEC8-4D1C-837F-28E1696BABFC.jpg
ORGANIZER;CN="ArtFarm Annapolis":MAILTO:info@artfarmannapolis.com
END:VEVENT
BEGIN:VEVENT
DTSTART;TZID=America/New_York:20220207T190000
DTEND;TZID=America/New_York:20220207T210000
DTSTAMP:20260422T010520
CREATED:20201216T193950Z
LAST-MODIFIED:20220203T144326Z
UID:26741-1644260400-1644267600@bayweekly.com
SUMMARY:Digital Photography Club of Annapolis (DPCA) – Virtual
DESCRIPTION:The DPCA is a diverse group of beginners\, hobbyists and professionals who love to take and share photos and are all about educating each other and the public about how to improve our photos. The club meets bi-weekly via Zoom. We get together to learn\, help each other\, trade ideas\, have Challenges & Showcases\, take field trips\, and have fun. Visitors from beginners to pros are welcome at meetings. Please join us! For more information\, visit www.digitalphotoclub.net. Email the club president at president@digitalphotoclub.net for a link to the next Zoom meeting and follow us on Facebook at “Digital Photo Club of Annapolis”. Visitors may attend up to two meetings as guests before joining the DPCA. The speaker for the 7 February 2022 meeting is Denise Silva and the subject  is composition.
URL:https://bayweekly.com/event/digital-photography-club-of-annapolis-dpca-virtual/
LOCATION:MD
CATEGORIES:photography
ORGANIZER;CN="Rich Isaacman":MAILTO:president@digitalphotoclub.net
END:VEVENT
BEGIN:VEVENT
DTSTART;TZID=America/New_York:20211030T090000
DTEND;TZID=America/New_York:20211030T130000
DTSTAMP:20260422T010520
CREATED:20211007T120504Z
LAST-MODIFIED:20211007T195026Z
UID:33680-1635584400-1635598800@bayweekly.com
SUMMARY:Annual Art\, Craft\, & Vendor Fair at American Legion Post 226
DESCRIPTION:Hosted by Post 226 Auxiliary the Annual Art\, Craft\, & Vendor Fair\nThe event will have over 25 local Artist\, Crafters\, & Vendors where you will have a chance to purchase ONE of a Kind Holiday Gifts or find something special for yourself.\n*Free Admission – Food for Purchase – Bake Sale\n*Door Prizes at 10am\, 11am1 noon\, 1pm\n*Craft Raffles\n*Shop while drinking Mimosas and Bloody Mary’s
URL:https://bayweekly.com/event/annual-art-craft-vendor-fair-at-american-legion-post-226/
LOCATION:Cummings-Behlke Post 226 American Legion\, 830 E Central Avenue\, Edgewater\, MD\, 21037\, United States
CATEGORIES:Art Gallery Show,Events,photography
ATTACH;FMTTYPE=image/jpeg:https://bayweekly.com/wp-content/uploads/2021/10/Fair-1.jpg
ORGANIZER;CN="AL Post 226 Auxiliary":MAILTO:semillard@comcast.net
END:VEVENT
BEGIN:VEVENT
DTSTART;TZID=America/New_York:20210616T190000
DTEND;TZID=America/New_York:20210616T200000
DTSTAMP:20260422T010520
CREATED:20210602T230632Z
LAST-MODIFIED:20210602T231812Z
UID:30148-1623870000-1623873600@bayweekly.com
SUMMARY:Meet the Artist event at Gallery 57 West
DESCRIPTION:Meet three of our talented artists live. Audrey Lees shares her journey as a painter\, Rich Isaacman discusses the art of drone photography and Nico Gozal shares his technique for painting on silk in a live discussion at the dining under the stars outside Gallery 57 West.
URL:https://bayweekly.com/event/meet-the-artist-event-at-gallery-57-west-5/
LOCATION:Gallery 57 West\, 57 West Street\, Annapolis\, 21401
CATEGORIES:photography
ATTACH;FMTTYPE=image/jpeg:https://bayweekly.com/wp-content/uploads/2021/06/G57W-MTA-FacebookPost-june-1.jpg
ORGANIZER;CN="Annapolis Arts Alliance":MAILTO:chesapeakepics@gmail.com
END:VEVENT
BEGIN:VEVENT
DTSTART;TZID=America/New_York:20210616T190000
DTEND;TZID=America/New_York:20210616T200000
DTSTAMP:20260422T010520
CREATED:20210602T230625Z
LAST-MODIFIED:20210603T131034Z
UID:30146-1623870000-1623873600@bayweekly.com
SUMMARY:Meet the Artist event at Gallery 57 West
DESCRIPTION:Meet three of our talented artists live. Audrey Lees shares her journey as a painter\, Rich Isaacman discusses the art of drone photography and Nico Gozal shares his technique for painting on silk in a live discussion at the dining under the stars outside Gallery 57 West.
URL:https://bayweekly.com/event/meet-the-artist-event-at-gallery-57-west-6/
LOCATION:Gallery 57 West\, 57 West Street\, Annapolis\, 21401
CATEGORIES:photography
ATTACH;FMTTYPE=image/jpeg:https://bayweekly.com/wp-content/uploads/2021/06/G57W-MTA-FacebookPost-june.jpg
ORGANIZER;CN="Annapolis Arts Alliance":MAILTO:chesapeakepics@gmail.com
END:VEVENT
BEGIN:VEVENT
DTSTART;TZID=America/New_York:20210311T190000
DTEND;TZID=America/New_York:20210311T210000
DTSTAMP:20260422T010520
CREATED:20210306T155413Z
LAST-MODIFIED:20210306T165446Z
UID:28253-1615489200-1615496400@bayweekly.com
SUMMARY:Artists of the month at Gallery 57 West
DESCRIPTION:Join us on Facebook Live to meet three of our talented artists in their distinct media.  Elizabeth Ramirez publishes historical maps; Aud Fanjoy is an international photographer and Atalante Shay works with acrylics to create beautiful sea creatures and other subjects.
URL:https://bayweekly.com/event/artists-of-the-month-at-gallery-57-west/
LOCATION:MD
CATEGORIES:photography
ATTACH;FMTTYPE=image/jpeg:https://bayweekly.com/wp-content/uploads/2021/03/March2021Artistofthemonth.jpeg
END:VEVENT
BEGIN:VEVENT
DTSTART;TZID=America/New_York:20210311T183000
DTEND;TZID=America/New_York:20210311T193000
DTSTAMP:20260422T010520
CREATED:20210214T203404Z
LAST-MODIFIED:20210214T205649Z
UID:27742-1615487400-1615491000@bayweekly.com
SUMMARY:Port of Baltimore Upgrades
DESCRIPTION:A Ports America V.P. will discuss Berth and Terminal Upgrades scheduled for the Port of Baltimore.  Contact W. Rynone\, Ph.D.\, P.E. Annapolis Chapter\, Maryland Society of Professional Engineers… rynone.eng@gmail.com
URL:https://bayweekly.com/event/port-of-baltimore-upgrades/
LOCATION:MD
CATEGORIES:photography
END:VEVENT
BEGIN:VEVENT
DTSTART;TZID=America/New_York:20210301T080000
DTEND;TZID=America/New_York:20210329T170000
DTSTAMP:20260422T010520
CREATED:20210303T182231Z
LAST-MODIFIED:20210303T210223Z
UID:28067-1614585600-1617037200@bayweekly.com
SUMMARY:Art of Gold Fundraising Raffle at  Gallery 57 West
DESCRIPTION:Win one of two $100.00 gift certificates for Art at Gallery 57 West. Cost of each raffle ticket is only $5.00.  All proceeds benefit  scholarships and art supplies for local High School artists through the Young Artists of the Annapolis Arts Alliance program.
URL:https://bayweekly.com/event/art-of-gold-fundraising-raffle-at-gallery-57-west/
LOCATION:Gallery 57 West\, 57 West Street\, Annapolis\, 21401
CATEGORIES:photography
ATTACH;FMTTYPE=image/jpeg:https://bayweekly.com/wp-content/uploads/2021/03/art-of-gold.jpg
ORGANIZER;CN="Annapolis Arts Alliance":MAILTO:chesapeakepics@gmail.com
END:VEVENT
BEGIN:VEVENT
DTSTART;TZID=America/New_York:20210211T053000
DTEND;TZID=America/New_York:20210211T193000
DTSTAMP:20260422T010520
CREATED:20210105T183835Z
LAST-MODIFIED:20210105T185805Z
UID:26962-1613021400-1613071800@bayweekly.com
SUMMARY:Jay Fleming Photography at MTPA\, Ticketed Reception
DESCRIPTION:What’s included: \nA 30-minute intimate gallery experience\nWine\nQ & A with Jay Fleming\nAbout Jay: \nIt would seem that Jay had discovered his passion for photography upon inheriting his father’s hand-me-down Nikon film camera\, at the young age of thirteen. Jay immediately developed an affinity for looking at life through the lens of his camera and what ensued was an exciting photographic journey that would eventually lead him to his career as a professional photographer. \nThough beginning under the tutelage of his father\, former National Geographic staff photographer\, Jay naturally developed a photographic style and identity all his own. Through experimentation\, an incredible amount of patience & preparation\, and countless hours spent researching potential photo opportunities\, Jay began to capture such awe-inspiring photographs on his own. A pair of Yellowstone Cutthroat trout underwater\, the last house on Holland Island reflecting in the rippling water just before it collapsed\, and a fleet of wooden Skipjacks against an ominous grey sky are among Jay’s most memorable pieces from the early stages of his career. \nJay considers himself to be extremely fortunate to have found a livelihood that both satisfies his creativity and simultaneously supports his beliefs in environmental conservation. Jay spent the summers of 2011 and 2012 working in Yellowstone National Park to preserve the park’s dwindling population of native Cutthroat Trout. During this time\, he was able to explore his surroundings and capture some of the iconic beauty of the park’s landscape and wildlife—however\, what was most memorable to him was the fact that some of those very photographs directly contributed to raising awareness to the conservation efforts being made. Jay’s photographs of these threatened Cutthroat Trout appeared in a National Geographic publication that informed the public of the increasing threat of invasive species. \nCloser to his home in Annapolis\, Maryland; Jay has turned his attention towards the Chesapeake Bay. Jay spent three years documenting all aspects of the Bay’s rapidly changing seafood industry for his first book\, Working the Water\, released in the fall of 2016. From underwater photographs of Blue Crabs swimming in lush beds of underwater grasses to incredibly poignant portraits of laborers working in a oyster shucking house\, to portraits of workboats leaving the dock before sunrise\, Jay illustrated the full spectrum of the Chesapeake Bay’s fisheries in Working the Water. This title is currently in its third and final printing. \nJay’s documentation of the iconic seafood industry proved to be an incredibly powerful educational tool in raising awareness for the people and the processes involved with bringing commonly consumed seafood products to market. In the fall of 2017\, amidst other photography and video projects\, Jay committed to his second book\, Island Life. Jay after 10 years of making trips to Smith and Tangier Islands – the two only inhabited offshore islands in the Chesapeake Bay – Jay developed an affinity for the environment and the island communities. Island Life will explore the environment and the seasonal Chesapeake harvests that provide the rhythm for community life\, while documenting the tenacity and determination of the Smith and Tangier islanders who honor their traditions while facing an uncertain future. Island Life is expected to be released in October of 2021. \nWhether it’s a dramatic sunrise over the water or a fishermen hauling gear\, the passion for his craft and for visual storytelling is obvious in every photograph. Jay’s talent is undeniable\, his is photography is not only beautiful but purposeful. \nWebsite: http://www.jayflemingphotography.com \nSocial media: @jayflemingphotography \nAbout the gallery at Maryland Theatre for the Performing Arts: \nThe Gallery at MTPA is located at 3 Park Place\, Suite 4 Annapolis\, MD 21401. The Gallery houses about 8 artists per year\, all local to Annapolis\, MD. As an arts nonprofit dedicated to providing the Annapolis community with accessible and innovative arts programming\, MTPA does not charge artsits a fee to house their work. Checkout our website and make a meaningful donation to MTPA here: \nWebsite: https://www.mtpa-annapolis.org \nSocial media: @Themtpa \nCovid-19 protocals: \nOnly 10 guests will be allowed in the gallery per 30-minute time slot\nMasks required\nGallery will be sanitized between time slots\nMTPA will be following CDC guidelines closely. If the reception is cancelled due to new government restrictions\, ticket holders will be offered the opportunity for a refund.\nAccessibility: \nIf you have any special requests\, accessibility needs\, or recommendations on how we can make our venues and events more convenient and comfortable for all patrons\, please contact us via email at mattie.fenton@mtpa-annapolis.org or call us at 410.626.6055. Whenever possible\, please contact us prior to the performance date to discuss any special requests. \nA 501(c)(3) Organization \nMaryland Theatre for the Performing Arts is a 501(c)(3) not-for-profit corporation and all gifts made to the Organization are tax-deductible to the extent provided by state and federal law. 100% of such gifts are retained by the Organization to support its operations.
URL:https://bayweekly.com/event/jay-fleming-photography-at-mtpa-ticketed-reception/
LOCATION:maryland theatre for the performing arts\, 3 park place suite 4\, annapolis\, 21401
CATEGORIES:photography
ATTACH;FMTTYPE=image/png:https://bayweekly.com/wp-content/uploads/2021/01/F96713F7-4CFF-4EC0-9745-5083F78B7B06.png
ORGANIZER;CN="Maryland Theatre for the Perfoming Arts":MAILTO:jemmalehner@mtpa-annapolis.org
END:VEVENT
BEGIN:VEVENT
DTSTART;TZID=America/New_York:20210119T080000
DTEND;TZID=America/New_York:20210119T170000
DTSTAMP:20260422T010520
CREATED:20201218T162302Z
LAST-MODIFIED:20201218T170517Z
UID:26797-1611043200-1611075600@bayweekly.com
SUMMARY:Call for Saturday Visiter Awards
DESCRIPTION:The awards are an honor recognizing Poe’s continuing legacy in the arts and literature globally. The prizes will honor media\, art\, performance\, and writing that is an adaptation of or is inspired by Poe’s life and works. Works of any medium and genre released\, printed\, distributed\, or first performed between January 1\, 2018\, and December 31\, 2020\, (the previous three years) can be accepted.
URL:https://bayweekly.com/event/call-for-saturday-visiter-awards/
LOCATION:Virtual
CATEGORIES:photography
ATTACH;FMTTYPE=image/jpeg:https://bayweekly.com/wp-content/uploads/2020/12/SVA.jpg
ORGANIZER;CN="Poe Baltimore":MAILTO:Director@poebaltimore.org
END:VEVENT
END:VCALENDAR