BEGIN:VCALENDAR
VERSION:2.0
PRODID:-//Bay Weekly - ECPv6.15.17.1//NONSGML v1.0//EN
CALSCALE:GREGORIAN
METHOD:PUBLISH
X-ORIGINAL-URL:https://bayweekly.com
X-WR-CALDESC:Events for Bay Weekly
REFRESH-INTERVAL;VALUE=DURATION:PT1H
X-Robots-Tag:noindex
X-PUBLISHED-TTL:PT1H
BEGIN:VTIMEZONE
TZID:America/New_York
BEGIN:DAYLIGHT
TZOFFSETFROM:-0500
TZOFFSETTO:-0400
TZNAME:EDT
DTSTART:20220313T070000
END:DAYLIGHT
BEGIN:STANDARD
TZOFFSETFROM:-0400
TZOFFSETTO:-0500
TZNAME:EST
DTSTART:20221106T060000
END:STANDARD
BEGIN:DAYLIGHT
TZOFFSETFROM:-0500
TZOFFSETTO:-0400
TZNAME:EDT
DTSTART:20230312T070000
END:DAYLIGHT
BEGIN:STANDARD
TZOFFSETFROM:-0400
TZOFFSETTO:-0500
TZNAME:EST
DTSTART:20231105T060000
END:STANDARD
BEGIN:DAYLIGHT
TZOFFSETFROM:-0500
TZOFFSETTO:-0400
TZNAME:EDT
DTSTART:20240310T070000
END:DAYLIGHT
BEGIN:STANDARD
TZOFFSETFROM:-0400
TZOFFSETTO:-0500
TZNAME:EST
DTSTART:20241103T060000
END:STANDARD
END:VTIMEZONE
BEGIN:VEVENT
DTSTART;VALUE=DATE:20230630
DTEND;VALUE=DATE:20230705
DTSTAMP:20260421T151057
CREATED:20230628T184416Z
LAST-MODIFIED:20230629T002525Z
UID:53647-1688083200-1688515199@bayweekly.com
SUMMARY:4th of July Celebrations at Wylder Tilghman Island
DESCRIPTION:Join us at Wylder Tilghman Island for a weekend of 4th of July celebration! Offering the best assortment of on-site activities from Friday\, June 30\, to Tuesday\, July 4\, you can participate in kids crafts\, indulge in a cocktail-making class with Wylder’s in-house bartenders\, let your creativity flow by painting a terracotta pot and planting mint or basil seeds\, enjoy daily live music\, and kick back and relax on nightly sunset cruises from 6:30 – 8:30 p.m. On Saturday\, July 1\, and Sunday\, July 2\, you can also participate in “Catch a Crab” classes from 3 – 4 p.m.\, learn all about the Maryland Blue Crab from a local Captain\, catch their own\, and cook it. Additionally\, enjoy complimentary s’mores at the main fire pit on Saturday\, July 1 – Tuesday\, July 4\, at 7 p.m. The celebration continues with popsicles at the pool\, glow sticks\, and Tilghman Island fireworks. \nRefuel after a swim in the pool or a day of kayaking at Tickler’s Crab Shack with a Traeger Pulled Pork Sandwich or the Local Steamed Blue Crab\, and sip on some classic summer cocktails\, including Tickler’s Famous Margarita and the Tilghman Tea.
URL:https://bayweekly.com/event/4th-of-july-celebrations-at-wylder-tilghman-island-2/
LOCATION:Wylder Tilghman Island\, 21551 Chesapeake Acc Dr.\, Tilghman\, 21671
CATEGORIES:recreation
ORGANIZER;CN="Wylder Tilghman Island":MAILTO:GuestServicesTI@WylderHotels.com
END:VEVENT
END:VCALENDAR