BEGIN:VCALENDAR
VERSION:2.0
PRODID:-//Bay Weekly - ECPv6.15.17.1//NONSGML v1.0//EN
CALSCALE:GREGORIAN
METHOD:PUBLISH
X-WR-CALNAME:Bay Weekly
X-ORIGINAL-URL:https://bayweekly.com
X-WR-CALDESC:Events for Bay Weekly
REFRESH-INTERVAL;VALUE=DURATION:PT1H
X-Robots-Tag:noindex
X-PUBLISHED-TTL:PT1H
BEGIN:VTIMEZONE
TZID:America/New_York
BEGIN:DAYLIGHT
TZOFFSETFROM:-0500
TZOFFSETTO:-0400
TZNAME:EDT
DTSTART:20240310T070000
END:DAYLIGHT
BEGIN:STANDARD
TZOFFSETFROM:-0400
TZOFFSETTO:-0500
TZNAME:EST
DTSTART:20241103T060000
END:STANDARD
BEGIN:DAYLIGHT
TZOFFSETFROM:-0500
TZOFFSETTO:-0400
TZNAME:EDT
DTSTART:20250309T070000
END:DAYLIGHT
BEGIN:STANDARD
TZOFFSETFROM:-0400
TZOFFSETTO:-0500
TZNAME:EST
DTSTART:20251102T060000
END:STANDARD
BEGIN:DAYLIGHT
TZOFFSETFROM:-0500
TZOFFSETTO:-0400
TZNAME:EDT
DTSTART:20260308T070000
END:DAYLIGHT
BEGIN:STANDARD
TZOFFSETFROM:-0400
TZOFFSETTO:-0500
TZNAME:EST
DTSTART:20261101T060000
END:STANDARD
END:VTIMEZONE
BEGIN:VEVENT
DTSTART;TZID=America/New_York:20250413T110000
DTEND;TZID=America/New_York:20250413T140000
DTSTAMP:20260420T203753
CREATED:20201201T211907Z
LAST-MODIFIED:20201201T211907Z
UID:52376-1744542000-1744552800@bayweekly.com
SUMMARY:Sunday Market - Honey's Harvest Farm
DESCRIPTION:The market features fresh produce\, flowers\, honey\, elderberry syrup\, herbal teas\, chicken\, pork\, duck\, eggs\, mushrooms\, live plants\, microgreens\, and more as seasonally available!  IN ADDITION\, ON THE FIRST SUNDAY OF THE MONTH WE OFFER A SPECIAL MARKET WITH EVEN MORE PARTICIPATING VENDORS\, INCLUDING AND NOT LIMITED TO SOAP MAKERS\, FISHERMEN\, AND JEWELRY MAKERS!
URL:https://bayweekly.com/event/sunday-market-honeys-harvest-farm-2-2025-04-13/
LOCATION:Honey’s Harvest Farm\, Lothian\, 20711
ATTACH;FMTTYPE=image/png:https://bayweekly.com/wp-content/uploads/2020/12/SundayMarket.png
ORGANIZER;CN="Honey's Harvest Farm":MAILTO:anna@honeysharvest.com
END:VEVENT
BEGIN:VEVENT
DTSTART;TZID=America/New_York:20250417T163000
DTEND;TZID=America/New_York:20250417T210000
DTSTAMP:20260420T203753
CREATED:20230331T181840Z
LAST-MODIFIED:20230331T181840Z
UID:52434-1744907400-1744923600@bayweekly.com
SUMMARY:Free Car Shows Every Thursday At The Green Turtle In Edgewater
DESCRIPTION:This is a free event for the family to meet some nice people and look at some very nice cars. Some people arrive around 4:30 and we usually leave when the sun starts to go down. People and cars come and go all evening so your family can enjoy themselves at any time. We hope to see you on any Thursday this summer.
URL:https://bayweekly.com/event/free-car-shows-every-thursday-at-the-green-turtle-in-edgewater-2025-04-17/
LOCATION:MD\, United States
CATEGORIES:art,children,clubs,photography,recreation
ATTACH;FMTTYPE=image/jpeg:https://bayweekly.com/wp-content/uploads/2023/03/car-show.jpg
END:VEVENT
BEGIN:VEVENT
DTSTART;TZID=America/New_York:20250420T110000
DTEND;TZID=America/New_York:20250420T140000
DTSTAMP:20260420T203753
CREATED:20201201T211907Z
LAST-MODIFIED:20201201T211907Z
UID:52510-1745146800-1745157600@bayweekly.com
SUMMARY:Sunday Market - Honey's Harvest Farm
DESCRIPTION:The market features fresh produce\, flowers\, honey\, elderberry syrup\, herbal teas\, chicken\, pork\, duck\, eggs\, mushrooms\, live plants\, microgreens\, and more as seasonally available!  IN ADDITION\, ON THE FIRST SUNDAY OF THE MONTH WE OFFER A SPECIAL MARKET WITH EVEN MORE PARTICIPATING VENDORS\, INCLUDING AND NOT LIMITED TO SOAP MAKERS\, FISHERMEN\, AND JEWELRY MAKERS!
URL:https://bayweekly.com/event/sunday-market-honeys-harvest-farm-2-2025-04-20/
LOCATION:Honey’s Harvest Farm\, Lothian\, 20711
ATTACH;FMTTYPE=image/png:https://bayweekly.com/wp-content/uploads/2020/12/SundayMarket.png
ORGANIZER;CN="Honey's Harvest Farm":MAILTO:anna@honeysharvest.com
END:VEVENT
BEGIN:VEVENT
DTSTART;TZID=America/New_York:20250424T163000
DTEND;TZID=America/New_York:20250424T210000
DTSTAMP:20260420T203753
CREATED:20230331T181840Z
LAST-MODIFIED:20230331T181840Z
UID:52556-1745512200-1745528400@bayweekly.com
SUMMARY:Free Car Shows Every Thursday At The Green Turtle In Edgewater
DESCRIPTION:This is a free event for the family to meet some nice people and look at some very nice cars. Some people arrive around 4:30 and we usually leave when the sun starts to go down. People and cars come and go all evening so your family can enjoy themselves at any time. We hope to see you on any Thursday this summer.
URL:https://bayweekly.com/event/free-car-shows-every-thursday-at-the-green-turtle-in-edgewater-2025-04-24/
LOCATION:MD\, United States
CATEGORIES:art,children,clubs,photography,recreation
ATTACH;FMTTYPE=image/jpeg:https://bayweekly.com/wp-content/uploads/2023/03/car-show.jpg
END:VEVENT
BEGIN:VEVENT
DTSTART;TZID=America/New_York:20250427T110000
DTEND;TZID=America/New_York:20250427T140000
DTSTAMP:20260420T203753
CREATED:20201201T211907Z
LAST-MODIFIED:20201201T211907Z
UID:52631-1745751600-1745762400@bayweekly.com
SUMMARY:Sunday Market - Honey's Harvest Farm
DESCRIPTION:The market features fresh produce\, flowers\, honey\, elderberry syrup\, herbal teas\, chicken\, pork\, duck\, eggs\, mushrooms\, live plants\, microgreens\, and more as seasonally available!  IN ADDITION\, ON THE FIRST SUNDAY OF THE MONTH WE OFFER A SPECIAL MARKET WITH EVEN MORE PARTICIPATING VENDORS\, INCLUDING AND NOT LIMITED TO SOAP MAKERS\, FISHERMEN\, AND JEWELRY MAKERS!
URL:https://bayweekly.com/event/sunday-market-honeys-harvest-farm-2-2025-04-27/
LOCATION:Honey’s Harvest Farm\, Lothian\, 20711
ATTACH;FMTTYPE=image/png:https://bayweekly.com/wp-content/uploads/2020/12/SundayMarket.png
ORGANIZER;CN="Honey's Harvest Farm":MAILTO:anna@honeysharvest.com
END:VEVENT
END:VCALENDAR